BEGIN:VCALENDAR
VERSION:2.0
PRODID:-//Teaching, Learning, &amp; Technology Blog - ECPv6.15.18//NONSGML v1.0//EN
CALSCALE:GREGORIAN
METHOD:PUBLISH
X-WR-CALNAME:Teaching, Learning, &amp; Technology Blog
X-ORIGINAL-URL:https://tl.ssc.edu
X-WR-CALDESC:Events for Teaching, Learning, &amp; Technology Blog
REFRESH-INTERVAL;VALUE=DURATION:PT1H
X-Robots-Tag:noindex
X-PUBLISHED-TTL:PT1H
BEGIN:VTIMEZONE
TZID:America/Chicago
BEGIN:DAYLIGHT
TZOFFSETFROM:-0600
TZOFFSETTO:-0500
TZNAME:CDT
DTSTART:20250309T080000
END:DAYLIGHT
BEGIN:STANDARD
TZOFFSETFROM:-0500
TZOFFSETTO:-0600
TZNAME:CST
DTSTART:20251102T070000
END:STANDARD
BEGIN:DAYLIGHT
TZOFFSETFROM:-0600
TZOFFSETTO:-0500
TZNAME:CDT
DTSTART:20260308T080000
END:DAYLIGHT
BEGIN:STANDARD
TZOFFSETFROM:-0500
TZOFFSETTO:-0600
TZNAME:CST
DTSTART:20261101T070000
END:STANDARD
BEGIN:DAYLIGHT
TZOFFSETFROM:-0600
TZOFFSETTO:-0500
TZNAME:CDT
DTSTART:20270314T080000
END:DAYLIGHT
BEGIN:STANDARD
TZOFFSETFROM:-0500
TZOFFSETTO:-0600
TZNAME:CST
DTSTART:20271107T070000
END:STANDARD
END:VTIMEZONE
BEGIN:VEVENT
DTSTART;TZID=America/Chicago:20260420T140000
DTEND;TZID=America/Chicago:20260420T150000
DTSTAMP:20260420T060825
CREATED:20260320T205032Z
LAST-MODIFIED:20260320T205134Z
UID:10001173-1776693600-1776697200@tl.ssc.edu
SUMMARY:Engaging Students Through D2L Discussions (Online Webinar) (.25 PGU's)
DESCRIPTION:Looking to boost student engagement in your in-person\, blended\, or online courses? This session explores practical strategies for using D2L discussion forums to foster meaningful interaction\, support introverted learners\, and streamline grading. Learn how to craft better prompts\, encourage participation\, and manage your time effectively—even with large classes. Whether you’re new to D2L or just need a refresher\, this session will help you make the most of online discussions. \n\n\n\nRegister for this Event
URL:https://tl.ssc.edu/event/engaging-students-through-d2l-discussions-online-webinar-25-pgus-2/
CATEGORIES:D2L
END:VEVENT
END:VCALENDAR