BEGIN:VCALENDAR
VERSION:2.0
PRODID:-//Teaching, Learning, &amp; Technology Blog - ECPv6.15.18//NONSGML v1.0//EN
CALSCALE:GREGORIAN
METHOD:PUBLISH
X-ORIGINAL-URL:https://tl.ssc.edu
X-WR-CALDESC:Events for Teaching, Learning, &amp; Technology Blog
REFRESH-INTERVAL;VALUE=DURATION:PT1H
X-Robots-Tag:noindex
X-PUBLISHED-TTL:PT1H
BEGIN:VTIMEZONE
TZID:America/Chicago
BEGIN:DAYLIGHT
TZOFFSETFROM:-0600
TZOFFSETTO:-0500
TZNAME:CDT
DTSTART:20240310T080000
END:DAYLIGHT
BEGIN:STANDARD
TZOFFSETFROM:-0500
TZOFFSETTO:-0600
TZNAME:CST
DTSTART:20241103T070000
END:STANDARD
BEGIN:DAYLIGHT
TZOFFSETFROM:-0600
TZOFFSETTO:-0500
TZNAME:CDT
DTSTART:20250309T080000
END:DAYLIGHT
BEGIN:STANDARD
TZOFFSETFROM:-0500
TZOFFSETTO:-0600
TZNAME:CST
DTSTART:20251102T070000
END:STANDARD
BEGIN:DAYLIGHT
TZOFFSETFROM:-0600
TZOFFSETTO:-0500
TZNAME:CDT
DTSTART:20260308T080000
END:DAYLIGHT
BEGIN:STANDARD
TZOFFSETFROM:-0500
TZOFFSETTO:-0600
TZNAME:CST
DTSTART:20261101T070000
END:STANDARD
END:VTIMEZONE
BEGIN:VEVENT
DTSTART;TZID=America/Chicago:20250506T160000
DTEND;TZID=America/Chicago:20250506T170000
DTSTAMP:20260423T132911
CREATED:20250207T170004Z
LAST-MODIFIED:20250207T170005Z
UID:10000924-1746547200-1746550800@tl.ssc.edu
SUMMARY:Rubrics: Use Pre-Designed Rubrics created by SSC Outcomes Committee or Create Your Own (Online Webinar) (.25 PGU)
DESCRIPTION:Rubrics in D2L are a great way to easily communicate assignment expectations to students for any type of course (traditional\, hybrid or online).  Rubrics in D2L also saves faculty time evaluating and grading while providing quality and objective feedback on student assignments.   \n\n\n\nIn this webinar\, we’ll cover the following:  \n\n\n\n\nAttaching a pre-designed SSC General Education Rubric created by SSC Outcomes Committee. \n\n\n\nCreating your own rubric from scratch and attaching it to an assignment. \n\n\n\nUsing two different rubrics for one assignment. \n\n\n\nUsing a rubric directly within gradebook column (for assignments from publisher or observing-type assignments\, such as presentations or participation).  \n\n\n\nGrading an assignment using a rubric and discover how students see their feedback. \n\n\n\nRubric Data: demonstrate ways for instructors to view rubric reporting within a course and the latest customized data dashboard available to instructors which show case the institutional general rubric data collected from the Outcomes Committee.  Guage the overall rubric use\, with the ability to sort by semester\, department\, and rubric criterion level.   \n\n\n\n\nJoin the Teaching and Learning Center for this online webinar as we get instructors started using Rubrics in D2L.  \n\n\n\nUnable to attend?  View recordings of this session at: https://tl.ssc.edu/rubrics-at-ssc-general-education-and-course-level/  \n\n\n\nRegister for this Event
URL:https://tl.ssc.edu/event/rubrics-use-pre-designed-rubrics-created-by-ssc-outcomes-committee-or-create-your-own-online-webinar-25-pgu-3/
CATEGORIES:D2L
END:VEVENT
BEGIN:VEVENT
DTSTART;TZID=America/Chicago:20250507T130000
DTEND;TZID=America/Chicago:20250507T140000
DTSTAMP:20260423T132911
CREATED:20250501T160800Z
LAST-MODIFIED:20250501T160803Z
UID:10000954-1746622800-1746626400@tl.ssc.edu
SUMMARY:LockDown Browser and Respondus Monitor: Protect the Integrity of Online Tests (Vendor Webinar)
DESCRIPTION:This comprehensive training webinar is intended for instructors who plan to use LockDown Browser and/or Respondus Monitor with online exams in Blackboard\, Brightspace\, Canvas\, Moodle\, and Schoology.  \n\n\n\nLockDown Browser is a custom browser that prevents digital cheating during an online exam. Respondus Monitor is a companion product for LockDown Browser that deters cheating when students take online exams in non- proctored environments. Students use their own computers with a standard webcam to record assessment sessions.  \n\n\n\nThe training will cover:  \n\n\n\n– How to use LockDown Browser to prevent digital cheating in proctored testing environments – How to use Respondus Monitor in non-proctored environments\, to protect exam integrity and confirm student identity – The student perspective using each application – Efficient review of the assessment data collected\, including the Review Priority system\, timeline\, and milestone features – Best practices and tips for success with both applications All attendees will receive a link to a recording after the session. \n\n\n\nRegister for this event
URL:https://tl.ssc.edu/event/lockdown-browser-and-respondus-monitor-protect-the-integrity-of-online-tests-vendor-webinar/
CATEGORIES:Vendor Webinar
END:VEVENT
BEGIN:VEVENT
DTSTART;TZID=America/Chicago:20250514T120000
DTEND;TZID=America/Chicago:20250514T130000
DTSTAMP:20260423T132911
CREATED:20250501T184652Z
LAST-MODIFIED:20250501T184652Z
UID:10000959-1747224000-1747227600@tl.ssc.edu
SUMMARY:Bright Ideas: D2L Adoption Series - Creating Assignments and Discussions (Online Webinar)
DESCRIPTION:Save your seat for our “Bright Ideas” 💡 Webinar Series. Each webinar is 45 minutes followed by 15 minutes of Q&A and networking. Take a deep dive with our Adoption Team into Brightspace tips and tricks for better digital learning experiences!  \n\n\n\n❓ What to Expect   \n\n\n\n📑 Learn how to create detailed and engaging Assignments and Discussions  \n\n\n\n🎉 Features to personalize and differentiate learning   \n\n\n\n📊 Tips to enhance your assessment skills  \n\n\n\n👩‍🏫 Ideal for faculty and instructional designers  \n\n\n\nRegister for this Event \n\n\n\nPlease Note:  In order to register\, you may have to create an account with the D2L Community.  Remember to use your SSC email when creating the account.
URL:https://tl.ssc.edu/event/bright-ideas-d2l-adoption-series-creating-assignments-and-discussions-online-webinar/
CATEGORIES:D2L
END:VEVENT
BEGIN:VEVENT
DTSTART;TZID=America/Chicago:20250515T103000
DTEND;TZID=America/Chicago:20250515T113000
DTSTAMP:20260423T132911
CREATED:20250501T185301Z
LAST-MODIFIED:20250501T185302Z
UID:10000960-1747305000-1747308600@tl.ssc.edu
SUMMARY:Bright Ideas: D2L Adoption Webinar Series for Upskilling - Accessibility for Professional Learners (Online Webinar)
DESCRIPTION:Save your seat in our “Bright Ideas” 💡 Webinar Series. Each webinar is 20 minutes followed by 10 minutes of Q&A. Take a deep dive with our Adoption Team into Brightspace tips and tricks for better professional learning experiences!   \n\n\n\n❓ What to Expect   \n\n\n\n⭐ Create an inclusive and accessible training environment so all learners succeed   \n\n\n\n🌎 Best practices for designing content that meets diverse needs   \n\n\n\n📋 Ensure compliance with accessibility standards   \n\n\n\nRegister for this Event \n\n\n\nPlease Note: In order to register\, you may have to create an account with the D2L Community. Remember to use your SSC email when creating the account.
URL:https://tl.ssc.edu/event/bright-ideas-d2l-adoption-webinar-series-for-upskilling-accessibility-for-professional-learners-online-webinar/
CATEGORIES:D2L
END:VEVENT
BEGIN:VEVENT
DTSTART;TZID=America/Chicago:20250515T120000
DTEND;TZID=America/Chicago:20250515T130000
DTSTAMP:20260423T132911
CREATED:20250501T183116Z
LAST-MODIFIED:20250501T183117Z
UID:10000958-1747310400-1747314000@tl.ssc.edu
SUMMARY:QM: AI Strategies for Personalized\, Inclusive Online Course Design (Vendor Webinar)
DESCRIPTION:Join Dr. Grady and Dr. Brooks for an interactive webinar celebrating the release of the latest Quality Matters white paper\, From Automation to Transformation: AI Strategies for Personalized\, Engaging\, and Inclusive Online Course Design. In this session\, participants will explore how AI can be used not only to streamline online learning — but to elevate it. Designed for educators\, instructional designers and academic leaders\, this conversation will highlight key insights from the paper and offer practical strategies for using AI to support learner success\, fairness and innovation.  \n\n\n\nRegister for this Event \n\n\n\nPlease note: SSC is a member of Quality Matters\, so these webinars are free. You may have to create a Quality Matters account with your SSC email.
URL:https://tl.ssc.edu/event/qm-ai-strategies-for-personalized-inclusive-online-course-design-vendor-webinar/
CATEGORIES:Vendor Webinar
END:VEVENT
BEGIN:VEVENT
DTSTART;TZID=America/Chicago:20250519T080000
DTEND;TZID=America/Chicago:20250519T170000
DTSTAMP:20260423T132911
CREATED:20250207T170230Z
LAST-MODIFIED:20250207T170231Z
UID:10000925-1747641600-1747674000@tl.ssc.edu
SUMMARY:Final Grades Due
DESCRIPTION:
URL:https://tl.ssc.edu/event/final-grades-due-2/
END:VEVENT
BEGIN:VEVENT
DTSTART;TZID=America/Chicago:20250521T140000
DTEND;TZID=America/Chicago:20250521T150000
DTSTAMP:20260423T132911
CREATED:20250501T181238Z
LAST-MODIFIED:20250501T181240Z
UID:10000955-1747836000-1747839600@tl.ssc.edu
SUMMARY:QM: Designing Courses for Gen Z (Vendor Webinar)
DESCRIPTION:Born between approximately 1997 and 2012\, Generation Z now dominates our college campuses\, including the online classroom. These digital natives are comfortable texting\, playing a game\, and watching Tik Tok\, all while completing their coursework. This presentation will examine the contextual factors that shape Generation Z learners and how the implementation of Quality Matters Standards can foster a successful learning environment for all students in our college classrooms. \n\n\n\nRegister for this Event \n\n\n\nPlease note:  SSC is a member of Quality Matters\, so these webinars are free.  You may have to create a Quality Matters account with your SSC email.
URL:https://tl.ssc.edu/event/qm-designing-courses-for-gen-z-vendor-webinar/
CATEGORIES:Vendor Webinar
END:VEVENT
END:VCALENDAR