BEGIN:VCALENDAR
VERSION:2.0
PRODID:-//Teaching, Learning, &amp; Technology Blog - ECPv6.15.18//NONSGML v1.0//EN
CALSCALE:GREGORIAN
METHOD:PUBLISH
X-ORIGINAL-URL:https://tl.ssc.edu
X-WR-CALDESC:Events for Teaching, Learning, &amp; Technology Blog
REFRESH-INTERVAL;VALUE=DURATION:PT1H
X-Robots-Tag:noindex
X-PUBLISHED-TTL:PT1H
BEGIN:VTIMEZONE
TZID:America/Chicago
BEGIN:DAYLIGHT
TZOFFSETFROM:-0600
TZOFFSETTO:-0500
TZNAME:CDT
DTSTART:20240310T080000
END:DAYLIGHT
BEGIN:STANDARD
TZOFFSETFROM:-0500
TZOFFSETTO:-0600
TZNAME:CST
DTSTART:20241103T070000
END:STANDARD
BEGIN:DAYLIGHT
TZOFFSETFROM:-0600
TZOFFSETTO:-0500
TZNAME:CDT
DTSTART:20250309T080000
END:DAYLIGHT
BEGIN:STANDARD
TZOFFSETFROM:-0500
TZOFFSETTO:-0600
TZNAME:CST
DTSTART:20251102T070000
END:STANDARD
BEGIN:DAYLIGHT
TZOFFSETFROM:-0600
TZOFFSETTO:-0500
TZNAME:CDT
DTSTART:20260308T080000
END:DAYLIGHT
BEGIN:STANDARD
TZOFFSETFROM:-0500
TZOFFSETTO:-0600
TZNAME:CST
DTSTART:20261101T070000
END:STANDARD
END:VTIMEZONE
BEGIN:VEVENT
DTSTART;TZID=America/Chicago:20250925T080000
DTEND;TZID=America/Chicago:20250925T170000
DTSTAMP:20260420T203838
CREATED:20250625T173910Z
LAST-MODIFIED:20250625T173911Z
UID:10001027-1758787200-1758819600@tl.ssc.edu
SUMMARY:Promethean ActivPanel – Discover Other Creative Usages (Self-Paced Online Course) 
DESCRIPTION:Are you teaching a course at SSC and your classroom has the Promethean ActivPanel Board?  Are you looking for some exciting ways to increase engagement for your students.  Sign up for this 30-minute\, online self-paced course demonstrating various scenarios that you can use in your physical classroom:   \n\n\n\n\nScenario #1: Covers how to turn your existing resources into engaging lessons\, mark up the content\, export as a pdf.  You can then post this pdf to D2L.  \n\n\n\n\n\nScenario #2: Build lessons using the built-in templates. The Promethean ActivPanel board has several templates that instructors can easily find under the insert image option.  These templates include a Periodic Table\, Mindmaps\, Fraction Equivalence Strip\, T-Chart\, Circle Fraction\, Geoboards\, just to name a few. \n\n\n\n\n\nScenario #3: Multi-User Races.  Use the built-in timer and alphabet spinner to have two students race to brainstorm words or ideas.  \n\n\n\n\n\nScenario #4: Rub and Reveal.  Upload any image and label certain areas of the image.  An example is parts of the human brain.  Create a white shape to cover the labels.  As you teach\, reveal the labels by simply erasing the white shape that covered the labels.  \n\n\n\n\n\nScenario #4: Build a Story. Upload several images or open up Chromium to capture images from the internet.  Showcase those images on the whiteboard. Use the spinner with creative words.  Have students build a story based on the images and the words the spinner landed upon.  \n\n\n\n\n\nScenario #5: Science Lab. Upload scientific images and have students come up to the board circle certain parts based on your question you ask in class.   \n\n\n\n\n\nScenario #6: Guess Who. Upload a certain image and have students guess who it is by sliding the revealing answer.  \n\n\n\n\n\nScenario #7: Scavenger Hunt. Use the spinner tool to add certain words.  After the spinner lands on certain words\, have the students search the internet for images on a laptop they are using in class. Have students share their screens with the Promethean screen sharing tool to share their findings. \n\n\n\n\n\nScenario #8: Hundreds Plus.  Select the Hundreds Plus template (part of the many templates preloaded).   Enable multi-user mode.  Add the timer and spinner to have students circle values. Clear all annotations to begin the process with new values from the spinner tool.  \n\n\n\n\nTo learn about these teaching scenarios that are easy to set up on the Promethean ActivPanel\, sign up for this course.  Note: You must create a user account with Promethean to sign up for this free course.   \n\n\n\nTo register\, visit:  https://learn.prometheanworld.com/courses/introduction-to-activinspire/#tab-course-section__overview \n\n\n\nHave you created interesting ways of using the Promethean ActivPanel Board?  If so\, let the Teaching and Learning Center know by emailing ssconline@ssc.edu.  We would love to showcase examples of how other instructors are using this technology.  \n\n\n\nNeed assistance setting up any of these creative ideas?  Let the Teaching and Learning know (ssconline@ssc.edu) and we can brainstorm ways to make it work.  
URL:https://tl.ssc.edu/event/promethean-activpanel-discover-other-creative-usages-self-paced-online-course-4/
CATEGORIES:Vendor Webinar
END:VEVENT
END:VCALENDAR