BEGIN:VCALENDAR
VERSION:2.0
PRODID:-//Teaching, Learning, &amp; Technology Blog - ECPv6.15.18//NONSGML v1.0//EN
CALSCALE:GREGORIAN
METHOD:PUBLISH
X-ORIGINAL-URL:https://tl.ssc.edu
X-WR-CALDESC:Events for Teaching, Learning, &amp; Technology Blog
REFRESH-INTERVAL;VALUE=DURATION:PT1H
X-Robots-Tag:noindex
X-PUBLISHED-TTL:PT1H
BEGIN:VTIMEZONE
TZID:America/Chicago
BEGIN:DAYLIGHT
TZOFFSETFROM:-0600
TZOFFSETTO:-0500
TZNAME:CDT
DTSTART:20240310T080000
END:DAYLIGHT
BEGIN:STANDARD
TZOFFSETFROM:-0500
TZOFFSETTO:-0600
TZNAME:CST
DTSTART:20241103T070000
END:STANDARD
BEGIN:DAYLIGHT
TZOFFSETFROM:-0600
TZOFFSETTO:-0500
TZNAME:CDT
DTSTART:20250309T080000
END:DAYLIGHT
BEGIN:STANDARD
TZOFFSETFROM:-0500
TZOFFSETTO:-0600
TZNAME:CST
DTSTART:20251102T070000
END:STANDARD
BEGIN:DAYLIGHT
TZOFFSETFROM:-0600
TZOFFSETTO:-0500
TZNAME:CDT
DTSTART:20260308T080000
END:DAYLIGHT
BEGIN:STANDARD
TZOFFSETFROM:-0500
TZOFFSETTO:-0600
TZNAME:CST
DTSTART:20261101T070000
END:STANDARD
END:VTIMEZONE
BEGIN:VEVENT
DTSTART;TZID=America/Chicago:20250909T080000
DTEND;TZID=America/Chicago:20250909T170000
DTSTAMP:20260420T120815
CREATED:20250625T174259Z
LAST-MODIFIED:20250625T174300Z
UID:10001028-1757404800-1757437200@tl.ssc.edu
SUMMARY:Elements of Quality Matters: Self-Paced Online Course (.25 PGU) 
DESCRIPTION:This self-paced course is an addition to the internal Introduction of Quality Matters at SSC course and offers a deep dive into getting your course ready to meet Quality Matters standards.  Quality Matters (QM) is the global organization leading quality assurance in online and innovative digital teaching and learning environments. It has advanced quality assurance practices in online teaching and learning for over a decade.  This course takes about 2 hours to complete.   \n\n\n\nLearn more about QM in this self-paced course\, including:  \n\n\n\n\nQM’s origin\, evolution\, and scope \n\n\n\n\n\nFactors that affect the quality of online learning \n\n\n\n\n\nWhat it takes for a course to be QM-Certified \n\n\n\n\n\nHow QM certifies online programs \n\n\n\n\n\nQM professional development and tools to support online teaching. \n\n\n\n\nTo Register:  https://www.canvas.net/browse/qm/courses/elements-of-quality-matters  \n\n\n\nReminder: Once completed\, remember to send the TLC (ssconline@ssc.edu) your certification of completion.
URL:https://tl.ssc.edu/event/elements-of-quality-matters-self-paced-online-course-25-pgu/
CATEGORIES:Vendor Webinar
END:VEVENT
END:VCALENDAR