BEGIN:VCALENDAR
VERSION:2.0
PRODID:-//Teaching, Learning, &amp; Technology Blog - ECPv6.15.18//NONSGML v1.0//EN
CALSCALE:GREGORIAN
METHOD:PUBLISH
X-WR-CALNAME:Teaching, Learning, &amp; Technology Blog
X-ORIGINAL-URL:https://tl.ssc.edu
X-WR-CALDESC:Events for Teaching, Learning, &amp; Technology Blog
REFRESH-INTERVAL;VALUE=DURATION:PT1H
X-Robots-Tag:noindex
X-PUBLISHED-TTL:PT1H
BEGIN:VTIMEZONE
TZID:America/Chicago
BEGIN:DAYLIGHT
TZOFFSETFROM:-0600
TZOFFSETTO:-0500
TZNAME:CDT
DTSTART:20240310T080000
END:DAYLIGHT
BEGIN:STANDARD
TZOFFSETFROM:-0500
TZOFFSETTO:-0600
TZNAME:CST
DTSTART:20241103T070000
END:STANDARD
BEGIN:DAYLIGHT
TZOFFSETFROM:-0600
TZOFFSETTO:-0500
TZNAME:CDT
DTSTART:20250309T080000
END:DAYLIGHT
BEGIN:STANDARD
TZOFFSETFROM:-0500
TZOFFSETTO:-0600
TZNAME:CST
DTSTART:20251102T070000
END:STANDARD
BEGIN:DAYLIGHT
TZOFFSETFROM:-0600
TZOFFSETTO:-0500
TZNAME:CDT
DTSTART:20260308T080000
END:DAYLIGHT
BEGIN:STANDARD
TZOFFSETFROM:-0500
TZOFFSETTO:-0600
TZNAME:CST
DTSTART:20261101T070000
END:STANDARD
END:VTIMEZONE
BEGIN:VEVENT
DTSTART;TZID=America/Chicago:20250805T110000
DTEND;TZID=America/Chicago:20250805T120000
DTSTAMP:20260420T083328
CREATED:20250612T213414Z
LAST-MODIFIED:20250612T213415Z
UID:10000989-1754391600-1754395200@tl.ssc.edu
SUMMARY:OLCL Engaging Online & Hybrid Learners: Using Custom GPTs to Facilitate Interactive Learning Experiences (Vendor Webinar)
DESCRIPTION:As online learning grows\, educators face the ongoing challenge of fostering interactive\, student-centered experiences\, particularly for asynchronous learners. This challenge becomes especially significant for what the presenter terms “Accidental Asynchronous Learners”—students who prefer synchronous learning but find themselves forced into asynchronous participation due to scheduling or situational constraints. These students often struggle with high transactional distance\, a concept defined by Michael Moore (1997)\, which refers to the psychological and communication gaps that can arise in distance education. In asynchronous learning\, where there is often less interpersonal dialogue and higher course structure\, students with low learner autonomy (i.e.\, those less adept at self-directed learning) can feel isolated and unsupported. \n\n\n\nIn the face of these challenges\, Generative AI (GenAI) tools\, particularly those based on GPT models\, present a potential solution. These tools offer opportunities for simulating interactive learning experiences\, providing Accidental Asynchronous Learners with much-needed dialogue and flexible learning activities. This webinar will explore the use of custom-built GPTs to support students who cannot engage in real-time interactions\, showcasing how these tools can foster deeper learning and greater engagement in asynchronous online environments. This session is designed to be dynamic\, engaging\, and exploratory. By positioning GenAI as a thinking partner rather than a thinking replacement\, we can help students develop the skills they need to thrive in an increasingly AI-driven world \n\n\n\nIntended Audience:  \n\n\n\nFaculty\, instructional designers\, technologists\, design thinkers \n\n\n\nKey Takeaways: \n\n\n\n\nUnderstand the potential of GPTs to reduce transactional distance and increase engagement for asynchronous learners.\n\n\n\nGain hands-on experience with several custom GPTs designed to simulate interactions with instructors\, peers\, and content.\n\n\n\nExplore practical strategies for integrating GenAI tools into their own teaching practices\, with a focus on student-centered learning.\n\n\n\nReflect on the role of AI in future learning environments and consider how these tools can be used to foster critical thinking and autonomy among students.\n\n\n\n\nRegister for this Event
URL:https://tl.ssc.edu/event/olcl-engaging-online-hybrid-learners-using-custom-gpts-to-facilitate-interactive-learning-experiences-vendor-webinar/
CATEGORIES:Vendor Webinar
END:VEVENT
BEGIN:VEVENT
DTSTART;TZID=America/Chicago:20250805T130000
DTEND;TZID=America/Chicago:20250805T140000
DTSTAMP:20260420T083328
CREATED:20250612T212135Z
LAST-MODIFIED:20250731T220821Z
UID:10000985-1754398800-1754402400@tl.ssc.edu
SUMMARY:LockDown Browser and Respondus Monitor: Protect the Integrity of Online Tests (Vendor Webinar)
DESCRIPTION:This comprehensive training webinar is intended for instructors who plan to use LockDown Browser and/or Respondus Monitor with online exams in Blackboard\, Brightspace\, Canvas\, Moodle\, and Schoology. LockDown Browser is a custom browser that prevents digital cheating during an online exam. Respondus Monitor is a companion product for LockDown Browser that deters cheating when students take online exams in non- proctored environments. Students use their own computers with a standard webcam to record assessment sessions. The training will cover: – How to use LockDown Browser to prevent digital cheating in proctored testing environments – How to use Respondus Monitor in non-proctored environments\, to protect exam integrity and confirm student identity – The student perspective using each application – Efficient review of the assessment data collected\, including the Review Priority system\, timeline\, and milestone features – Best practices and tips for success with both applications All attendees will receive a link to a recording after the session. \n\n\n\nRegister for this Event
URL:https://tl.ssc.edu/event/lockdown-browser-and-respondus-monitor-protect-the-integrity-of-online-tests-vendor-webinar-6/
CATEGORIES:Vendor Webinar
END:VEVENT
END:VCALENDAR