BEGIN:VCALENDAR
VERSION:2.0
PRODID:-//Teaching, Learning, &amp; Technology Blog - ECPv6.15.18//NONSGML v1.0//EN
CALSCALE:GREGORIAN
METHOD:PUBLISH
X-WR-CALNAME:Teaching, Learning, &amp; Technology Blog
X-ORIGINAL-URL:https://tl.ssc.edu
X-WR-CALDESC:Events for Teaching, Learning, &amp; Technology Blog
REFRESH-INTERVAL;VALUE=DURATION:PT1H
X-Robots-Tag:noindex
X-PUBLISHED-TTL:PT1H
BEGIN:VTIMEZONE
TZID:America/Chicago
BEGIN:DAYLIGHT
TZOFFSETFROM:-0600
TZOFFSETTO:-0500
TZNAME:CDT
DTSTART:20250309T080000
END:DAYLIGHT
BEGIN:STANDARD
TZOFFSETFROM:-0500
TZOFFSETTO:-0600
TZNAME:CST
DTSTART:20251102T070000
END:STANDARD
BEGIN:DAYLIGHT
TZOFFSETFROM:-0600
TZOFFSETTO:-0500
TZNAME:CDT
DTSTART:20260308T080000
END:DAYLIGHT
BEGIN:STANDARD
TZOFFSETFROM:-0500
TZOFFSETTO:-0600
TZNAME:CST
DTSTART:20261101T070000
END:STANDARD
BEGIN:DAYLIGHT
TZOFFSETFROM:-0600
TZOFFSETTO:-0500
TZNAME:CDT
DTSTART:20270314T080000
END:DAYLIGHT
BEGIN:STANDARD
TZOFFSETFROM:-0500
TZOFFSETTO:-0600
TZNAME:CST
DTSTART:20271107T070000
END:STANDARD
END:VTIMEZONE
BEGIN:VEVENT
DTSTART;TZID=America/Chicago:20260414T150000
DTEND;TZID=America/Chicago:20260414T170000
DTSTAMP:20260422T180342
CREATED:20260320T165617Z
LAST-MODIFIED:20260320T165746Z
UID:10001157-1776178800-1776186000@tl.ssc.edu
SUMMARY:SSC Federal Accessibility Training for Staff and Faculty (Online Webinar)
DESCRIPTION:Beginning April 24\, 2026\, a new federal accessibility mandate requires that all state and local government digital content  (including websites\, mobile apps\, PDFs\, documents\, emails\, slide decks\, forms\, videos\, and online services) must fully comply with WCAG 2.1 Level AA standards. This requirement applies to South Suburban College. To help the campus prepare\, the SSC Accessibility Taskforce has requested that the Teaching and Learning Center provide basic training.    \n\n\n\nThis hands‑on session will introduce faculty and staff to the built‑in accessibility features within Microsoft Office\, including Word\, PowerPoint\, Excel\, and Outlook\, to ensure that documents\, presentations\, and communication are accessible to all learners and colleagues.  \n\n\n\nAdditionally\, we’ll dig into the nuts and bolts of making instructional material accessible as well.  You’ll learn how to apply universal design for learning (UDL) principles to your writing\, documents and media\, along with showcasing tools available to help you make that possible.  \n\n\n\nRegister for this Event  \n\n\n\nInterested in learning more about the federal accessibility mandate? Check out these great articles from WCET or the U.S. Department of Justice:  \n\n\n\nFact Sheet: New Rule on the Accessibility of Web Content and Mobile Apps Provided by State and Local Governments  \n\n\n\nMeeting the Looming Web Accessibility Regulations: The Time to Start Was Yesterday  
URL:https://tl.ssc.edu/event/ssc-federal-accessibility-training-for-staff-and-faculty-online-webinar-2/
CATEGORIES:D2L,Internal SSC Training
END:VEVENT
BEGIN:VEVENT
DTSTART;TZID=America/Chicago:20260420T140000
DTEND;TZID=America/Chicago:20260420T150000
DTSTAMP:20260422T180342
CREATED:20260320T205032Z
LAST-MODIFIED:20260320T205134Z
UID:10001173-1776693600-1776697200@tl.ssc.edu
SUMMARY:Engaging Students Through D2L Discussions (Online Webinar) (.25 PGU's)
DESCRIPTION:Looking to boost student engagement in your in-person\, blended\, or online courses? This session explores practical strategies for using D2L discussion forums to foster meaningful interaction\, support introverted learners\, and streamline grading. Learn how to craft better prompts\, encourage participation\, and manage your time effectively—even with large classes. Whether you’re new to D2L or just need a refresher\, this session will help you make the most of online discussions. \n\n\n\nRegister for this Event
URL:https://tl.ssc.edu/event/engaging-students-through-d2l-discussions-online-webinar-25-pgus-2/
CATEGORIES:D2L
END:VEVENT
BEGIN:VEVENT
DTSTART;TZID=America/Chicago:20260423T160000
DTEND;TZID=America/Chicago:20260423T170000
DTSTAMP:20260422T180342
CREATED:20260320T210220Z
LAST-MODIFIED:20260320T210243Z
UID:10001174-1776960000-1776963600@tl.ssc.edu
SUMMARY:Microsoft 365 Refresher for SSC Faculty and Staff (Outlook\, Teams and OneDrive) (Online Webinar)
DESCRIPTION:Ready for a Microsoft 365 refresher? Join us for an updated training session designed to help SSC faculty and staff make the most of the tools you use every day.  \n\n\n\nWe’ll cover the latest features and best practices for Outlook\, Teams\, and OneDrive\, including how to manage email and calendars more efficiently\, collaborate in real time\, and stay organized across devices. You’ll learn tips for using Teams as your central hub for communication and meetings\, as well as how OneDrive and cloud storage can simplify file access\, sharing\, and version control.  \n\n\n\nWhether you’re looking to brush up on the basics or discover new capabilities\, this session will help you work smarter and stay connected in today’s Microsoft 365 environment.  \n\n\n\nRegister for this Event
URL:https://tl.ssc.edu/event/microsoft-365-refresher-for-ssc-faculty-and-state-outlook-teams-and-onedrive-online-webinar/
CATEGORIES:D2L
END:VEVENT
BEGIN:VEVENT
DTSTART;TZID=America/Chicago:20260428T150000
DTEND;TZID=America/Chicago:20260428T170000
DTSTAMP:20260422T180342
CREATED:20260320T170013Z
LAST-MODIFIED:20260320T170419Z
UID:10001158-1777388400-1777395600@tl.ssc.edu
SUMMARY:SSC Federal Accessibility Training for Staff and Faculty (Online Webinar)
DESCRIPTION:Beginning April 24\, 2026\, a new federal accessibility mandate requires that all state and local government digital content  (including websites\, mobile apps\, PDFs\, documents\, emails\, slide decks\, forms\, videos\, and online services) must fully comply with WCAG 2.1 Level AA standards. This requirement applies to South Suburban College. To help the campus prepare\, the SSC Accessibility Taskforce has requested that the Teaching and Learning Center provide basic training.    \n\n\n\nThis hands‑on session will introduce faculty and staff to the built‑in accessibility features within Microsoft Office\, including Word\, PowerPoint\, Excel\, and Outlook\, to ensure that documents\, presentations\, and communication are accessible to all learners and colleagues.  \n\n\n\nAdditionally\, we’ll dig into the nuts and bolts of making instructional material accessible as well.  You’ll learn how to apply universal design for learning (UDL) principles to your writing\, documents and media\, along with showcasing tools available to help you make that possible.  \n\n\n\nRegister for this Event  \n\n\n\nInterested in learning more about the federal accessibility mandate? Check out these great articles from WCET or the U.S. Department of Justice:  \n\n\n\nFact Sheet: New Rule on the Accessibility of Web Content and Mobile Apps Provided by State and Local Governments  \n\n\n\nMeeting the Looming Web Accessibility Regulations: The Time to Start Was Yesterday  
URL:https://tl.ssc.edu/event/ssc-federal-accessibility-training-for-staff-and-faculty-online-webinar-3/
CATEGORIES:D2L,Internal SSC Training
END:VEVENT
BEGIN:VEVENT
DTSTART;TZID=America/Chicago:20260512T150000
DTEND;TZID=America/Chicago:20260512T170000
DTSTAMP:20260422T180342
CREATED:20260320T170728Z
LAST-MODIFIED:20260320T170729Z
UID:10001159-1778598000-1778605200@tl.ssc.edu
SUMMARY:SSC Federal Accessibility Training for Staff and Faculty (Online Webinar)
DESCRIPTION:Beginning April 24\, 2026\, a new federal accessibility mandate requires that all state and local government digital content  (including websites\, mobile apps\, PDFs\, documents\, emails\, slide decks\, forms\, videos\, and online services) must fully comply with WCAG 2.1 Level AA standards. This requirement applies to South Suburban College. To help the campus prepare\, the SSC Accessibility Taskforce has requested that the Teaching and Learning Center provide basic training.    \n\n\n\nThis hands‑on session will introduce faculty and staff to the built‑in accessibility features within Microsoft Office\, including Word\, PowerPoint\, Excel\, and Outlook\, to ensure that documents\, presentations\, and communication are accessible to all learners and colleagues.  \n\n\n\nAdditionally\, we’ll dig into the nuts and bolts of making instructional material accessible as well.  You’ll learn how to apply universal design for learning (UDL) principles to your writing\, documents and media\, along with showcasing tools available to help you make that possible.  \n\n\n\nRegister for this Event  \n\n\n\nInterested in learning more about the federal accessibility mandate? Check out these great articles from WCET or the U.S. Department of Justice:  \n\n\n\nFact Sheet: New Rule on the Accessibility of Web Content and Mobile Apps Provided by State and Local Governments  \n\n\n\nMeeting the Looming Web Accessibility Regulations: The Time to Start Was Yesterday  
URL:https://tl.ssc.edu/event/ssc-federal-accessibility-training-for-staff-and-faculty-online-webinar-4/
CATEGORIES:D2L,Internal SSC Training
END:VEVENT
BEGIN:VEVENT
DTSTART;TZID=America/Chicago:20260513T120000
DTEND;TZID=America/Chicago:20260513T130000
DTSTAMP:20260422T180342
CREATED:20260206T182309Z
LAST-MODIFIED:20260206T182310Z
UID:10001121-1778673600-1778677200@tl.ssc.edu
SUMMARY:D2L:  Course Design Best Practice for Higher Education (Vendor Webinar)
DESCRIPTION:Learn how to align learning objectives with assessment methods  \n\n\n\nStrategies for creating dynamic and inclusive learning environments  \n\n\n\nInsights into the latest trends and tools in course design   \n\n\n\n\nRegister for this Event \n\n\n\nSpecial Note – this event is hosted by D2L.  When registering\, please use your SSC email address.
URL:https://tl.ssc.edu/event/d2l-course-design-best-practice-for-higher-education-vendor-webinar/
CATEGORIES:D2L
END:VEVENT
BEGIN:VEVENT
DTSTART;TZID=America/Chicago:20260526T150000
DTEND;TZID=America/Chicago:20260526T170000
DTSTAMP:20260422T180342
CREATED:20260320T171022Z
LAST-MODIFIED:20260320T171023Z
UID:10001160-1779807600-1779814800@tl.ssc.edu
SUMMARY:SSC Federal Accessibility Training for Staff and Faculty (Online Webinar)
DESCRIPTION:Beginning April 24\, 2026\, a new federal accessibility mandate requires that all state and local government digital content  (including websites\, mobile apps\, PDFs\, documents\, emails\, slide decks\, forms\, videos\, and online services) must fully comply with WCAG 2.1 Level AA standards. This requirement applies to South Suburban College. To help the campus prepare\, the SSC Accessibility Taskforce has requested that the Teaching and Learning Center provide basic training.    \n\n\n\nThis hands‑on session will introduce faculty and staff to the built‑in accessibility features within Microsoft Office\, including Word\, PowerPoint\, Excel\, and Outlook\, to ensure that documents\, presentations\, and communication are accessible to all learners and colleagues.  \n\n\n\nAdditionally\, we’ll dig into the nuts and bolts of making instructional material accessible as well.  You’ll learn how to apply universal design for learning (UDL) principles to your writing\, documents and media\, along with showcasing tools available to help you make that possible.  \n\n\n\nRegister for this Event  \n\n\n\nInterested in learning more about the federal accessibility mandate? Check out these great articles from WCET or the U.S. Department of Justice:  \n\n\n\nFact Sheet: New Rule on the Accessibility of Web Content and Mobile Apps Provided by State and Local Governments  \n\n\n\nMeeting the Looming Web Accessibility Regulations: The Time to Start Was Yesterday  
URL:https://tl.ssc.edu/event/ssc-federal-accessibility-training-for-staff-and-faculty-online-webinar-5/
CATEGORIES:D2L,Internal SSC Training
END:VEVENT
BEGIN:VEVENT
DTSTART;TZID=America/Chicago:20260609T150000
DTEND;TZID=America/Chicago:20260609T170000
DTSTAMP:20260422T180342
CREATED:20260320T171405Z
LAST-MODIFIED:20260320T171408Z
UID:10001161-1781017200-1781024400@tl.ssc.edu
SUMMARY:SSC Federal Accessibility Training for Staff and Faculty (Online Webinar)
DESCRIPTION:Beginning April 24\, 2026\, a new federal accessibility mandate requires that all state and local government digital content  (including websites\, mobile apps\, PDFs\, documents\, emails\, slide decks\, forms\, videos\, and online services) must fully comply with WCAG 2.1 Level AA standards. This requirement applies to South Suburban College. To help the campus prepare\, the SSC Accessibility Taskforce has requested that the Teaching and Learning Center provide basic training.    \n\n\n\nThis hands‑on session will introduce faculty and staff to the built‑in accessibility features within Microsoft Office\, including Word\, PowerPoint\, Excel\, and Outlook\, to ensure that documents\, presentations\, and communication are accessible to all learners and colleagues.  \n\n\n\nAdditionally\, we’ll dig into the nuts and bolts of making instructional material accessible as well.  You’ll learn how to apply universal design for learning (UDL) principles to your writing\, documents and media\, along with showcasing tools available to help you make that possible.  \n\n\n\nRegister for this Event  \n\n\n\nInterested in learning more about the federal accessibility mandate? Check out these great articles from WCET or the U.S. Department of Justice:  \n\n\n\nFact Sheet: New Rule on the Accessibility of Web Content and Mobile Apps Provided by State and Local Governments  \n\n\n\nMeeting the Looming Web Accessibility Regulations: The Time to Start Was Yesterday  
URL:https://tl.ssc.edu/event/ssc-federal-accessibility-training-for-staff-and-faculty-online-webinar-6/
CATEGORIES:D2L,Internal SSC Training
END:VEVENT
BEGIN:VEVENT
DTSTART;TZID=America/Chicago:20260623T150000
DTEND;TZID=America/Chicago:20260623T170000
DTSTAMP:20260422T180342
CREATED:20260320T171645Z
LAST-MODIFIED:20260320T171646Z
UID:10001162-1782226800-1782234000@tl.ssc.edu
SUMMARY:SSC Federal Accessibility Training for Staff and Faculty (Online Webinar)
DESCRIPTION:Beginning April 24\, 2026\, a new federal accessibility mandate requires that all state and local government digital content  (including websites\, mobile apps\, PDFs\, documents\, emails\, slide decks\, forms\, videos\, and online services) must fully comply with WCAG 2.1 Level AA standards. This requirement applies to South Suburban College. To help the campus prepare\, the SSC Accessibility Taskforce has requested that the Teaching and Learning Center provide basic training.    \n\n\n\nThis hands‑on session will introduce faculty and staff to the built‑in accessibility features within Microsoft Office\, including Word\, PowerPoint\, Excel\, and Outlook\, to ensure that documents\, presentations\, and communication are accessible to all learners and colleagues.  \n\n\n\nAdditionally\, we’ll dig into the nuts and bolts of making instructional material accessible as well.  You’ll learn how to apply universal design for learning (UDL) principles to your writing\, documents and media\, along with showcasing tools available to help you make that possible.  \n\n\n\nRegister for this Event  \n\n\n\nInterested in learning more about the federal accessibility mandate? Check out these great articles from WCET or the U.S. Department of Justice:  \n\n\n\nFact Sheet: New Rule on the Accessibility of Web Content and Mobile Apps Provided by State and Local Governments  \n\n\n\nMeeting the Looming Web Accessibility Regulations: The Time to Start Was Yesterday  
URL:https://tl.ssc.edu/event/ssc-federal-accessibility-training-for-staff-and-faculty-online-webinar-7/
CATEGORIES:D2L,Internal SSC Training
END:VEVENT
END:VCALENDAR