BEGIN:VCALENDAR
VERSION:2.0
PRODID:-//Teaching, Learning, &amp; Technology Blog - ECPv6.15.18//NONSGML v1.0//EN
CALSCALE:GREGORIAN
METHOD:PUBLISH
X-ORIGINAL-URL:https://tl.ssc.edu
X-WR-CALDESC:Events for Teaching, Learning, &amp; Technology Blog
REFRESH-INTERVAL;VALUE=DURATION:PT1H
X-Robots-Tag:noindex
X-PUBLISHED-TTL:PT1H
BEGIN:VTIMEZONE
TZID:America/Chicago
BEGIN:DAYLIGHT
TZOFFSETFROM:-0600
TZOFFSETTO:-0500
TZNAME:CDT
DTSTART:20240310T080000
END:DAYLIGHT
BEGIN:STANDARD
TZOFFSETFROM:-0500
TZOFFSETTO:-0600
TZNAME:CST
DTSTART:20241103T070000
END:STANDARD
BEGIN:DAYLIGHT
TZOFFSETFROM:-0600
TZOFFSETTO:-0500
TZNAME:CDT
DTSTART:20250309T080000
END:DAYLIGHT
BEGIN:STANDARD
TZOFFSETFROM:-0500
TZOFFSETTO:-0600
TZNAME:CST
DTSTART:20251102T070000
END:STANDARD
BEGIN:DAYLIGHT
TZOFFSETFROM:-0600
TZOFFSETTO:-0500
TZNAME:CDT
DTSTART:20260308T080000
END:DAYLIGHT
BEGIN:STANDARD
TZOFFSETFROM:-0500
TZOFFSETTO:-0600
TZNAME:CST
DTSTART:20261101T070000
END:STANDARD
END:VTIMEZONE
BEGIN:VEVENT
DTSTART;TZID=America/Chicago:20250428T150000
DTEND;TZID=America/Chicago:20250428T163000
DTSTAMP:20260423T042413
CREATED:20250314T205940Z
LAST-MODIFIED:20250328T163205Z
UID:10000940-1745852400-1745857800@tl.ssc.edu
SUMMARY:Online Workshop: Design for All – Mastering Accessibility – Tools and Techniques
DESCRIPTION:Join the Teaching and Learning Center for an interactive workshop focused on enhancing course accessibility through Universal Design for Learning (UDL) principles. Learn how to use Ally within D2L to convert content into alternative formats\, interpret Ally’s accessibility reports\, and improve your course materials for greater inclusivity. We’ll cover tools and techniques to enhance your scores\, ensuring all students have equitable access to learning. This workshop session is ideal for instructors looking to improve the accessibility of their content and provide a more inclusive learning environment.  \n\n\n\nRegister for this Event
URL:https://tl.ssc.edu/event/d2l-accessibility-introduction-to-anthology-ally-online-webinar-3/
CATEGORIES:D2L
END:VEVENT
END:VCALENDAR