BEGIN:VCALENDAR
VERSION:2.0
PRODID:-//Teaching, Learning, &amp; Technology Blog - ECPv6.15.18//NONSGML v1.0//EN
CALSCALE:GREGORIAN
METHOD:PUBLISH
X-WR-CALNAME:Teaching, Learning, &amp; Technology Blog
X-ORIGINAL-URL:https://tl.ssc.edu
X-WR-CALDESC:Events for Teaching, Learning, &amp; Technology Blog
REFRESH-INTERVAL;VALUE=DURATION:PT1H
X-Robots-Tag:noindex
X-PUBLISHED-TTL:PT1H
BEGIN:VTIMEZONE
TZID:America/Chicago
BEGIN:DAYLIGHT
TZOFFSETFROM:-0600
TZOFFSETTO:-0500
TZNAME:CDT
DTSTART:20240310T080000
END:DAYLIGHT
BEGIN:STANDARD
TZOFFSETFROM:-0500
TZOFFSETTO:-0600
TZNAME:CST
DTSTART:20241103T070000
END:STANDARD
BEGIN:DAYLIGHT
TZOFFSETFROM:-0600
TZOFFSETTO:-0500
TZNAME:CDT
DTSTART:20250309T080000
END:DAYLIGHT
BEGIN:STANDARD
TZOFFSETFROM:-0500
TZOFFSETTO:-0600
TZNAME:CST
DTSTART:20251102T070000
END:STANDARD
BEGIN:DAYLIGHT
TZOFFSETFROM:-0600
TZOFFSETTO:-0500
TZNAME:CDT
DTSTART:20260308T080000
END:DAYLIGHT
BEGIN:STANDARD
TZOFFSETFROM:-0500
TZOFFSETTO:-0600
TZNAME:CST
DTSTART:20261101T070000
END:STANDARD
END:VTIMEZONE
BEGIN:VEVENT
DTSTART;TZID=America/Chicago:20250421T100000
DTEND;TZID=America/Chicago:20250421T110000
DTSTAMP:20260423T042204
CREATED:20250314T212014Z
LAST-MODIFIED:20250328T161420Z
UID:10000943-1745229600-1745233200@tl.ssc.edu
SUMMARY:Online Workshop: D2L Media Library – Upload and/or Record Videos to   Meet Accessibility Standards
DESCRIPTION:This workshop session on the D2L Media Library will provide participants with a comprehensive understanding of how to effectively use this robust tool for managing audio and video content within their D2L courses.  This workshop will allow instructors to practice recording a short video and uploading a video file\, then use the auto transcription feature. The video transcript that is generated can be downloaded by students as additional notes and study support. Providing transcriptions of audio and video is another great example of meeting accessibility standards for your students.  \n\n\n\nIn addition\, the training will explore advanced features of the D2L Media Library such as applying chapters to videos for better navigation\, use the built-in video editing tools for minor adjustments\, and record videos outside of specific D2L course for use across multiple course offerings. By the end of the session\, participants will be equipped with the skills and confidence to effectively use the D2L Media Library to create dynamic\, accessible\, and efficient course content.  \n\n\n\nRegister for this Event
URL:https://tl.ssc.edu/event/introduction-to-d2l-media-library-online-webinar-4/
CATEGORIES:D2L
END:VEVENT
END:VCALENDAR