BEGIN:VCALENDAR
VERSION:2.0
PRODID:-//Teaching, Learning, &amp; Technology Blog - ECPv6.15.18//NONSGML v1.0//EN
CALSCALE:GREGORIAN
METHOD:PUBLISH
X-ORIGINAL-URL:https://tl.ssc.edu
X-WR-CALDESC:Events for Teaching, Learning, &amp; Technology Blog
REFRESH-INTERVAL;VALUE=DURATION:PT1H
X-Robots-Tag:noindex
X-PUBLISHED-TTL:PT1H
BEGIN:VTIMEZONE
TZID:America/Chicago
BEGIN:DAYLIGHT
TZOFFSETFROM:-0600
TZOFFSETTO:-0500
TZNAME:CDT
DTSTART:20240310T080000
END:DAYLIGHT
BEGIN:STANDARD
TZOFFSETFROM:-0500
TZOFFSETTO:-0600
TZNAME:CST
DTSTART:20241103T070000
END:STANDARD
BEGIN:DAYLIGHT
TZOFFSETFROM:-0600
TZOFFSETTO:-0500
TZNAME:CDT
DTSTART:20250309T080000
END:DAYLIGHT
BEGIN:STANDARD
TZOFFSETFROM:-0500
TZOFFSETTO:-0600
TZNAME:CST
DTSTART:20251102T070000
END:STANDARD
BEGIN:DAYLIGHT
TZOFFSETFROM:-0600
TZOFFSETTO:-0500
TZNAME:CDT
DTSTART:20260308T080000
END:DAYLIGHT
BEGIN:STANDARD
TZOFFSETFROM:-0500
TZOFFSETTO:-0600
TZNAME:CST
DTSTART:20261101T070000
END:STANDARD
END:VTIMEZONE
BEGIN:VEVENT
DTSTART;TZID=America/Chicago:20250415T140000
DTEND;TZID=America/Chicago:20250415T153000
DTSTAMP:20260423T042540
CREATED:20250328T171155Z
LAST-MODIFIED:20250328T171156Z
UID:10000948-1744725600-1744731000@tl.ssc.edu
SUMMARY:In-Person Workshop: Design for All – Mastering Accessibility – Tools and Techniques
DESCRIPTION:Registration: Since this is an in-person workshop\, online registration is not available.  Please email ssconline@ssc.edu to register.  \n\n\n\nLocation: Teaching and Learning Center – Main Campus – Library – Room 1249  \n\n\n\nPlease bring your own device: We will be doing hands-on activities\, so bring your own laptop to follow along.  \n\n\n\nJoin the Teaching and Learning Center for an interactive workshop focused on enhancing course accessibility through Universal Design for Learning (UDL) principles. Learn how to use Ally within D2L to convert content into alternative formats\, interpret Ally’s accessibility reports\, and improve your course materials for greater inclusivity. We’ll cover tools and techniques to enhance your scores\, ensuring all students have equitable access to learning. This workshop session is ideal for instructors looking to improve the accessibility of their content and provide a more inclusive learning environment. 
URL:https://tl.ssc.edu/event/in-person-workshop-design-for-all-mastering-accessibility-tools-and-techniques-2/
CATEGORIES:D2L
END:VEVENT
BEGIN:VEVENT
DTSTART;TZID=America/Chicago:20250415T160000
DTEND;TZID=America/Chicago:20250415T170000
DTSTAMP:20260423T042540
CREATED:20250328T171610Z
LAST-MODIFIED:20250328T171610Z
UID:10000949-1744732800-1744736400@tl.ssc.edu
SUMMARY:In-Person Workshop: D2L Media Library – Upload and/or Record Videos to   Meet Accessibility Standards
DESCRIPTION:Registration: Since this is an in-person workshop\, online registration is not available.  Please email ssconline@ssc.edu to register.  \n\n\n\nLocation: Teaching and Learning Center – Main Campus – Library – Room 1249  \n\n\n\nPlease bring your own device: We will be doing hands-on activities\, so bring your own laptop to follow along.   \n\n\n\nThis workshop session on the D2L Media Library will provide participants with a comprehensive understanding of how to effectively use this robust tool for managing audio and video content within their D2L courses.  This workshop will allow instructors to practice recording a short video and uploading a video file\, then use the auto transcription feature. The video transcript that is generated can be downloaded by students as additional notes and study support. Providing transcriptions of audio and video is another great example of meeting accessibility standards for your students.  \n\n\n\nIn addition\, the training will explore advanced features of the D2L Media Library such as applying chapters to videos for better navigation\, use the built-in video editing tools for minor adjustments\, and record videos outside of specific D2L course for use across multiple course offerings. By the end of the session\, participants will be equipped with the skills and confidence to effectively use the D2L Media Library to create dynamic\, accessible\, and efficient course content. 
URL:https://tl.ssc.edu/event/in-person-workshop-d2l-media-library-upload-and-or-record-videos-to-meet-accessibility-standards-2/
CATEGORIES:D2L
END:VEVENT
END:VCALENDAR