BEGIN:VCALENDAR
VERSION:2.0
PRODID:-//Teaching, Learning, &amp; Technology Blog - ECPv6.15.18//NONSGML v1.0//EN
CALSCALE:GREGORIAN
METHOD:PUBLISH
X-WR-CALNAME:Teaching, Learning, &amp; Technology Blog
X-ORIGINAL-URL:https://tl.ssc.edu
X-WR-CALDESC:Events for Teaching, Learning, &amp; Technology Blog
REFRESH-INTERVAL;VALUE=DURATION:PT1H
X-Robots-Tag:noindex
X-PUBLISHED-TTL:PT1H
BEGIN:VTIMEZONE
TZID:America/Chicago
BEGIN:DAYLIGHT
TZOFFSETFROM:-0600
TZOFFSETTO:-0500
TZNAME:CDT
DTSTART:20240310T080000
END:DAYLIGHT
BEGIN:STANDARD
TZOFFSETFROM:-0500
TZOFFSETTO:-0600
TZNAME:CST
DTSTART:20241103T070000
END:STANDARD
BEGIN:DAYLIGHT
TZOFFSETFROM:-0600
TZOFFSETTO:-0500
TZNAME:CDT
DTSTART:20250309T080000
END:DAYLIGHT
BEGIN:STANDARD
TZOFFSETFROM:-0500
TZOFFSETTO:-0600
TZNAME:CST
DTSTART:20251102T070000
END:STANDARD
BEGIN:DAYLIGHT
TZOFFSETFROM:-0600
TZOFFSETTO:-0500
TZNAME:CDT
DTSTART:20260308T080000
END:DAYLIGHT
BEGIN:STANDARD
TZOFFSETFROM:-0500
TZOFFSETTO:-0600
TZNAME:CST
DTSTART:20261101T070000
END:STANDARD
END:VTIMEZONE
BEGIN:VEVENT
DTSTART;TZID=America/Chicago:20250329T100000
DTEND;TZID=America/Chicago:20250329T110000
DTSTAMP:20260423T055813
CREATED:20250206T192404Z
LAST-MODIFIED:20250206T192404Z
UID:10000911-1743242400-1743246000@tl.ssc.edu
SUMMARY:Adjunct Faculty Micro-Credential Session: Anthology Ally – Accessibility Tools in D2L (Online Webinar)
DESCRIPTION:This webinar is part of the Inclusive Teaching Micro-Credential for Adjunct Instructors at South Suburban College.  Webinar sessions are offered on Saturdays\, but also offered during the working week.   Adjunct Instructors are welcome to attend these sessions at a time and date convenient to them.  \n\n\n\nAbout the Inclusive Teaching Micro-Credential  \n\n\n\nComplete these three webinars presented by the Teaching and Learning Center before the end of the term to receive the certificate of completion and compensation:  \n\n\n\n\nIntroduction to Teaching Best Practices \n\n\n\nAnthology Ally (Accessibility Tools in D2L) \n\n\n\nSSDO Passports & Accommodations (including pregnancy)\n\n\n\n\nThis session covers: Anthology Ally (Accessibility Tools in D2L)  \n\n\n\nRegister for this Event
URL:https://tl.ssc.edu/event/adjunct-faculty-micro-credential-session-anthology-ally-accessibility-tools-in-d2l-online-webinar/
CATEGORIES:D2L
END:VEVENT
END:VCALENDAR