BEGIN:VCALENDAR
VERSION:2.0
PRODID:-//Teaching, Learning, &amp; Technology Blog - ECPv6.15.18//NONSGML v1.0//EN
CALSCALE:GREGORIAN
METHOD:PUBLISH
X-WR-CALNAME:Teaching, Learning, &amp; Technology Blog
X-ORIGINAL-URL:https://tl.ssc.edu
X-WR-CALDESC:Events for Teaching, Learning, &amp; Technology Blog
REFRESH-INTERVAL;VALUE=DURATION:PT1H
X-Robots-Tag:noindex
X-PUBLISHED-TTL:PT1H
BEGIN:VTIMEZONE
TZID:America/Chicago
BEGIN:DAYLIGHT
TZOFFSETFROM:-0600
TZOFFSETTO:-0500
TZNAME:CDT
DTSTART:20240310T080000
END:DAYLIGHT
BEGIN:STANDARD
TZOFFSETFROM:-0500
TZOFFSETTO:-0600
TZNAME:CST
DTSTART:20241103T070000
END:STANDARD
BEGIN:DAYLIGHT
TZOFFSETFROM:-0600
TZOFFSETTO:-0500
TZNAME:CDT
DTSTART:20250309T080000
END:DAYLIGHT
BEGIN:STANDARD
TZOFFSETFROM:-0500
TZOFFSETTO:-0600
TZNAME:CST
DTSTART:20251102T070000
END:STANDARD
BEGIN:DAYLIGHT
TZOFFSETFROM:-0600
TZOFFSETTO:-0500
TZNAME:CDT
DTSTART:20260308T080000
END:DAYLIGHT
BEGIN:STANDARD
TZOFFSETFROM:-0500
TZOFFSETTO:-0600
TZNAME:CST
DTSTART:20261101T070000
END:STANDARD
END:VTIMEZONE
BEGIN:VEVENT
DTSTART;TZID=America/Chicago:20251103T150000
DTEND;TZID=America/Chicago:20251103T160000
DTSTAMP:20260422T145624
CREATED:20251023T171630Z
LAST-MODIFIED:20251023T171633Z
UID:10001078-1762182000-1762185600@tl.ssc.edu
SUMMARY:Staff Training Session: Creating Accessible Documents in Microsoft Office
DESCRIPTION:In April 2026\, new accessibility legislation goes into effect\, requiring all digital documents to meet updated accessibility standards. This training session will equip staff with the knowledge and tools needed to create accessible documents using Microsoft Office applications such as Word\, Excel\, and PowerPoint.  \n\n\n\nParticipants will learn how to use the built-in Accessibility Checker\, identify and correct common accessibility issues\, and apply best practices to ensure content is readable and usable for all audiences\, including individuals with disabilities.  \n\n\n\nRegister for this Event
URL:https://tl.ssc.edu/event/staff-training-session-creating-accessible-documents-in-microsoft-office-6/
CATEGORIES:D2L
END:VEVENT
BEGIN:VEVENT
DTSTART;TZID=America/Chicago:20251105T180000
DTEND;TZID=America/Chicago:20251105T190000
DTSTAMP:20260422T145624
CREATED:20251002T210458Z
LAST-MODIFIED:20251003T194250Z
UID:10001049-1762365600-1762369200@tl.ssc.edu
SUMMARY:TLC Accessibility Consulting - Get Your Course Materials Accessibility-Ready by April 2026!
DESCRIPTION:The federal deadline to ensure your course content meets accessibility standards is April 2026 — and we’re here to help you get there with confidence.  \n\n\n\n🎯 One-on-One Accessibility Consultations Now Available  Meet individually with the Teaching and Learning Center staff to review your course materials\, get practical tips\, and ensure your content is fully compliant and inclusive for all learners.  \n\n\n\nRegister for this session \n\n\n\nFeel free to also attend our Workshops for other accessibility trainings available that may assist (check TLC calendar for training dates).  \n\n\n\n\nOnline Workshop: Design for All – Mastering Accessibility – Tools and Techniques (.25 PGU) \n\n\n\n\n\nOnline Workshop: D2L Media Library – Upload and/or Record Videos to   Meet Accessibility Standards (.25 PGU’s) 
URL:https://tl.ssc.edu/event/tlc-accessibility-consulting-get-your-course-materials-accessibility-ready-by-february-2026-4/
CATEGORIES:D2L
END:VEVENT
BEGIN:VEVENT
DTSTART;TZID=America/Chicago:20251113T130000
DTEND;TZID=America/Chicago:20251113T140000
DTSTAMP:20260422T145624
CREATED:20251015T155317Z
LAST-MODIFIED:20251023T171816Z
UID:10001060-1763038800-1763042400@tl.ssc.edu
SUMMARY:Staff Training Session: Creating Accessible Documents in Microsoft Office
DESCRIPTION:In April 2026\, new accessibility legislation goes into effect\, requiring all digital documents to meet updated accessibility standards. This training session will equip staff with the knowledge and tools needed to create accessible documents using Microsoft Office applications such as Word\, Excel\, PowerPoint and Outlook.  \n\n\n\nParticipants will learn how to use the built-in Accessibility Checker\, identify and correct common accessibility issues\, and apply best practices to ensure content is readable and usable for all audiences\, including individuals with disabilities.  \n\n\n\nRegister for this Event
URL:https://tl.ssc.edu/event/staff-training-session-creating-accessible-documents-in-microsoft-office-2/
CATEGORIES:D2L
END:VEVENT
BEGIN:VEVENT
DTSTART;TZID=America/Chicago:20251114T140000
DTEND;TZID=America/Chicago:20251114T150000
DTSTAMP:20260422T145624
CREATED:20251008T200107Z
LAST-MODIFIED:20251022T162137Z
UID:10001051-1763128800-1763132400@tl.ssc.edu
SUMMARY:TLC Accessibility Consulting - Get Your Course Materials Accessibility-Ready by April 2026!
DESCRIPTION:The federal deadline to ensure your course content meets accessibility standards is April 2026 — and we’re here to help you get there with confidence.  \n\n\n\n🎯 One-on-One Accessibility Consultations Now Available  Meet individually with the Teaching and Learning Center staff to review your course materials\, get practical tips\, and ensure your content is fully compliant and inclusive for all learners.  \n\n\n\nRegister for this session \n\n\n\nFeel free to also attend our Workshops for other accessibility trainings available that may assist (check TLC calendar for training dates).  \n\n\n\n\nOnline Workshop: Design for All – Mastering Accessibility – Tools and Techniques (.25 PGU) \n\n\n\n\n\nOnline Workshop: D2L Media Library – Upload and/or Record Videos to   Meet Accessibility Standards (.25 PGU’s) 
URL:https://tl.ssc.edu/event/tlc-accessibility-consulting-get-your-course-materials-accessibility-ready-by-april-2026/
CATEGORIES:D2L
END:VEVENT
BEGIN:VEVENT
DTSTART;TZID=America/Chicago:20251118T140000
DTEND;TZID=America/Chicago:20251118T150000
DTSTAMP:20260422T145624
CREATED:20251008T200421Z
LAST-MODIFIED:20251008T200519Z
UID:10001052-1763474400-1763478000@tl.ssc.edu
SUMMARY:TLC Accessibility Consulting - Get Your Course Materials Accessibility-Ready by April 2026!
DESCRIPTION:The federal deadline to ensure your course content meets accessibility standards is April 2026 — and we’re here to help you get there with confidence.  \n\n\n\n🎯 One-on-One Accessibility Consultations Now Available  Meet individually with the Teaching and Learning Center staff to review your course materials\, get practical tips\, and ensure your content is fully compliant and inclusive for all learners.  \n\n\n\nRegister for this session \n\n\n\nFeel free to also attend our Workshops for other accessibility trainings available that may assist (check TLC calendar for training dates).  \n\n\n\n\nOnline Workshop: Design for All – Mastering Accessibility – Tools and Techniques (.25 PGU) \n\n\n\n\n\nOnline Workshop: D2L Media Library – Upload and/or Record Videos to   Meet Accessibility Standards (.25 PGU’s) 
URL:https://tl.ssc.edu/event/tlc-accessibility-consulting-get-your-course-materials-accessibility-ready-by-april-2026-2/
CATEGORIES:D2L
END:VEVENT
BEGIN:VEVENT
DTSTART;TZID=America/Chicago:20251120T130000
DTEND;TZID=America/Chicago:20251120T140000
DTSTAMP:20260422T145624
CREATED:20251015T155632Z
LAST-MODIFIED:20251023T171921Z
UID:10001061-1763643600-1763647200@tl.ssc.edu
SUMMARY:Staff Training Session: Creating Accessible Documents in Microsoft Office
DESCRIPTION:In April 2026\, new accessibility legislation goes into effect\, requiring all digital documents to meet updated accessibility standards. This training session will equip staff with the knowledge and tools needed to create accessible documents using Microsoft Office applications such as Word\, Excel\, PowerPoint and Outlook.  \n\n\n\nParticipants will learn how to use the built-in Accessibility Checker\, identify and correct common accessibility issues\, and apply best practices to ensure content is readable and usable for all audiences\, including individuals with disabilities.  \n\n\n\nRegister for this Event
URL:https://tl.ssc.edu/event/staff-training-session-creating-accessible-documents-in-microsoft-office-3/
CATEGORIES:D2L
END:VEVENT
END:VCALENDAR