BEGIN:VCALENDAR
VERSION:2.0
PRODID:-//Teaching, Learning, &amp; Technology Blog - ECPv6.15.18//NONSGML v1.0//EN
CALSCALE:GREGORIAN
METHOD:PUBLISH
X-WR-CALNAME:Teaching, Learning, &amp; Technology Blog
X-ORIGINAL-URL:https://tl.ssc.edu
X-WR-CALDESC:Events for Teaching, Learning, &amp; Technology Blog
REFRESH-INTERVAL;VALUE=DURATION:PT1H
X-Robots-Tag:noindex
X-PUBLISHED-TTL:PT1H
BEGIN:VTIMEZONE
TZID:America/Chicago
BEGIN:DAYLIGHT
TZOFFSETFROM:-0600
TZOFFSETTO:-0500
TZNAME:CDT
DTSTART:20240310T080000
END:DAYLIGHT
BEGIN:STANDARD
TZOFFSETFROM:-0500
TZOFFSETTO:-0600
TZNAME:CST
DTSTART:20241103T070000
END:STANDARD
BEGIN:DAYLIGHT
TZOFFSETFROM:-0600
TZOFFSETTO:-0500
TZNAME:CDT
DTSTART:20250309T080000
END:DAYLIGHT
BEGIN:STANDARD
TZOFFSETFROM:-0500
TZOFFSETTO:-0600
TZNAME:CST
DTSTART:20251102T070000
END:STANDARD
BEGIN:DAYLIGHT
TZOFFSETFROM:-0600
TZOFFSETTO:-0500
TZNAME:CDT
DTSTART:20260308T080000
END:DAYLIGHT
BEGIN:STANDARD
TZOFFSETFROM:-0500
TZOFFSETTO:-0600
TZNAME:CST
DTSTART:20261101T070000
END:STANDARD
END:VTIMEZONE
BEGIN:VEVENT
DTSTART;TZID=America/Chicago:20250812T140000
DTEND;TZID=America/Chicago:20250812T150000
DTSTAMP:20260422T195205
CREATED:20250623T174100Z
LAST-MODIFIED:20250623T174848Z
UID:10000992-1755007200-1755010800@tl.ssc.edu
SUMMARY:D2L Basics and Simple Syllabus Refresher (Online Webinar)
DESCRIPTION:Join the Teaching and Learning Center for this online webinar as we get instructors started using D2L.  We’ll demonstrate D2L navigation\, how to add and organize content into modules\, how to create assignments\, basic gradebook functionality\, and ways to communicate with your students.   \n\n\n\nIn this webinar\, we’ll cover the following:  \n\n\n\n\nWhere to locate your Syllabus and update – using Simple Syllabus \n\n\n\nCreating weekly modules and posting a variety of content into those modules (powerpoints\, pdf’s\, videos\, etc.). \n\n\n\nCreating assignments (discussion forum\, written assignment\, online practice quiz) and passing the score to the D2L gradebook. \n\n\n\nBasic grading functionality and submitting attendance\, midterm and final grades to the student information system.  \n\n\n\nVarious ways to communicate with your students (announcement\, emails\, students who missed assignments\, etc.). \n\n\n\nIntroducing the D2L Pulse App and easy notifications to students (sort of like text messaging to mobile phones).\n\n\n\n\nRegister for this Event
URL:https://tl.ssc.edu/event/d2l-basics-and-simple-syllabus-refresher-online-webinar-4/
CATEGORIES:D2L
END:VEVENT
BEGIN:VEVENT
DTSTART;TZID=America/Chicago:20250813T170000
DTEND;TZID=America/Chicago:20250813T180000
DTSTAMP:20260422T195205
CREATED:20250623T175231Z
LAST-MODIFIED:20250623T175323Z
UID:10000993-1755104400-1755108000@tl.ssc.edu
SUMMARY:D2L Basics and Simple Syllabus Refresher (Online Webinar)
DESCRIPTION:Join the Teaching and Learning Center for this online webinar as we get instructors started using D2L.  We’ll demonstrate D2L navigation\, how to add and organize content into modules\, how to create assignments\, basic gradebook functionality\, and ways to communicate with your students.   \n\n\n\nIn this webinar\, we’ll cover the following:  \n\n\n\nIntroducing the D2L Pulse App and easy notifications to students (sort of like text messaging to mobile phones). \n\n\n\nWhere to locate your Syllabus and update – using Simple Syllabus  \n\n\n\nCreating weekly modules and posting a variety of content into those modules (powerpoints\, pdf’s\, videos\, etc.).  \n\n\n\nCreating assignments (discussion forum\, written assignment\, online practice quiz) and passing the score to the D2L gradebook.  \n\n\n\nBasic grading functionality and submitting attendance\, midterm and final grades to the student information system.   \n\n\n\nVarious ways to communicate with your students (announcement\, emails\, students who missed assignments\, etc.).  \n\n\n\nRegister for this event
URL:https://tl.ssc.edu/event/d2l-basics-and-simple-syllabus-refresher-online-webinar-5/
CATEGORIES:D2L
END:VEVENT
BEGIN:VEVENT
DTSTART;TZID=America/Chicago:20250815T133000
DTEND;TZID=America/Chicago:20250815T140000
DTSTAMP:20260422T195205
CREATED:20250623T172029Z
LAST-MODIFIED:20250623T172031Z
UID:10000990-1755264600-1755266400@tl.ssc.edu
SUMMARY:Promethean ActivPanel Display Refresher (Hands-on Training in Room 3127) 
DESCRIPTION:Some SSC classrooms are equipped with a Promethean ActivPanel as a display.    Join the Teaching and Learning Center for this hands-on training where we will demonstrate the technical aspects of using the Promethean ActivPanel in the classroom.    \n\n\n\nIn this live training\, we’ll cover:  \n\n\n\n\nNavigating the center console\, unified menu and touch screen. \n\n\n\n\n\nLocating and launching applications that are pre-installed. \n\n\n\n\n\nAllowing students to share their devices with you and other students by initiating a 6-digit sharing code. \n\n\n\n\n\nUtilizing engaging lessons and activities pre-built into the Promethean ActivPanel that include annotation\, capture app\, spinner\, timer\, whiteboard\, along with access to internet via Chrome\, just to name a few.  \n\n\n\n\n\nSave content altered on the Promethean ActivPanel to USB drive. \n\n\n\n\n\nImport existing resources\, such as PDF’s\, images and Powerpoints and/or connecting to your D2L course to access your course content.  \n\n\n\n\nDue to limited seating\, please register by emailing:  ssconline@ssc.edu.   You will receive an email confirmation.   \n\n\n\nThis hands-on training will be held in room 3127. 
URL:https://tl.ssc.edu/event/promethean-activpanel-display-refresher-hands-on-training-in-room-3127-3/
CATEGORIES:D2L
END:VEVENT
BEGIN:VEVENT
DTSTART;TZID=America/Chicago:20250815T140000
DTEND;TZID=America/Chicago:20250815T143000
DTSTAMP:20260422T195205
CREATED:20250623T172216Z
LAST-MODIFIED:20250623T172217Z
UID:10000991-1755266400-1755268200@tl.ssc.edu
SUMMARY:Flex Course Delivery Training (Hands-on Training in Room 3127) 
DESCRIPTION:Many courses at SSC are considered flex delivery courses.  Flex delivery refers to students choosing to attend a course in-person in a physical classroom or virtually using the virtual classroom option in D2L.  It’s their choice and they can switch up which way they want to attend each week.    \n\n\n\nHowever\, instructors are always in the physical classroom.  That means\, instructors must set up their class to be delivered in both formats.  This includes using the classroom equipment and the virtual classroom tool in D2L for those virtual students.  \n\n\n\nJoin the Teaching and Learning Center for this hands-on training where we will demonstrate the technical aspects of running and managing a flex delivery classroom.    \n\n\n\nIn this live training\, we’ll cover:  \n\n\n\n\nWithin the classroom\, logging into the computer and turning on the front and back projectors. \n\n\n\n\n\nScheduling virtual classroom sessions for all your class times for the term. \n\n\n\n\n\nLaunching a virtual classroom meeting\, selecting the classroom camera and microphone and discovering ways to verify your settings. \n\n\n\n\n\nUsing the camera remote so that virtual students have an equal experience to that of the in-person students.  \n\n\n\n\n\nBest practices of using the virtual classroom tools will also be discussed which include sharing your in-class screen so that virtual students can see clearly\, using the large gallery view so you can see all your virtual students\, recording your meetings so that all students can view later…and much more. \n\n\n\n\nDue to limited seating\, please register by emailing:  ssconline@ssc.edu.  You will receive an email confirmation.   \n\n\n\nThis hands-on training will be held in room 3127.
URL:https://tl.ssc.edu/event/flex-course-delivery-training-hands-on-training-in-room-3127-3/
CATEGORIES:D2L
END:VEVENT
BEGIN:VEVENT
DTSTART;TZID=America/Chicago:20250820T100000
DTEND;TZID=America/Chicago:20250820T110000
DTSTAMP:20260422T195205
CREATED:20250623T180155Z
LAST-MODIFIED:20250623T180155Z
UID:10000996-1755684000-1755687600@tl.ssc.edu
SUMMARY:D2L Basics and Simple Syllabus Refresher (Online Webinar)
DESCRIPTION:Join the Teaching and Learning Center for this online webinar as we get instructors started using D2L.  We’ll demonstrate D2L navigation\, how to add and organize content into modules\, how to create assignments\, basic gradebook functionality\, and ways to communicate with your students.   \n\n\n\nIn this webinar\, we’ll cover the following:  \n\n\n\nIntroducing the D2L Pulse App and easy notifications to students (sort of like text messaging to mobile phones). \n\n\n\nWhere to locate your Syllabus and update – using Simple Syllabus  \n\n\n\nCreating weekly modules and posting a variety of content into those modules (powerpoints\, pdf’s\, videos\, etc.).  \n\n\n\nCreating assignments (discussion forum\, written assignment\, online practice quiz) and passing the score to the D2L gradebook.  \n\n\n\nBasic grading functionality and submitting attendance\, midterm and final grades to the student information system.   \n\n\n\nVarious ways to communicate with your students (announcement\, emails\, students who missed assignments\, etc.).  \n\n\n\nRegister for this Event
URL:https://tl.ssc.edu/event/d2l-basics-and-simple-syllabus-refresher-online-webinar-6/
CATEGORIES:D2L
END:VEVENT
BEGIN:VEVENT
DTSTART;TZID=America/Chicago:20250826T150000
DTEND;TZID=America/Chicago:20250826T160000
DTSTAMP:20260422T195205
CREATED:20250625T163743Z
LAST-MODIFIED:20250625T163744Z
UID:10001018-1756220400-1756224000@tl.ssc.edu
SUMMARY:Online Workshop: Design for All – Mastering Accessibility – Tools and Techniques (.25 PGU's)
DESCRIPTION:Join the Teaching and Learning Center for an interactive workshop focused on enhancing course accessibility through Universal Design for Learning (UDL) principles. Learn how to use Ally within D2L to convert content into alternative formats\, interpret Ally’s accessibility reports\, and improve your course materials for greater inclusivity. We’ll cover tools and techniques to enhance your scores\, ensuring all students have equitable access to learning. This workshop session is ideal for instructors looking to improve the accessibility of their content and provide a more inclusive learning environment.  \n\n\n\nRegister for this event
URL:https://tl.ssc.edu/event/online-workshop-design-for-all-mastering-accessibility-tools-and-techniques-25-pgus/
CATEGORIES:D2L
END:VEVENT
BEGIN:VEVENT
DTSTART;TZID=America/Chicago:20250826T160000
DTEND;TZID=America/Chicago:20250826T170000
DTSTAMP:20260422T195205
CREATED:20250625T164039Z
LAST-MODIFIED:20250625T164039Z
UID:10001019-1756224000-1756227600@tl.ssc.edu
SUMMARY:Online Workshop: D2L Media Library – Upload and/or Record Videos to Meet Accessibility Standards (.25 PGU's)
DESCRIPTION:This workshop session on the D2L Media Library will provide participants with a comprehensive understanding of how to effectively use this robust tool for managing audio and video content within their D2L courses.  This workshop will allow instructors to practice recording a short video and uploading a video file\, then use the auto transcription feature. The video transcript that is generated can be downloaded by students as additional notes and study support. Providing transcriptions of audio and video is another great example of meeting accessibility standards for your students.  \n\n\n\nIn addition\, the training will explore advanced features of the D2L Media Library such as applying chapters to videos for better navigation\, use the built-in video editing tools for minor adjustments\, and record videos outside of specific D2L course for use across multiple course offerings. By the end of the session\, participants will be equipped with the skills and confidence to effectively use the D2L Media Library to create dynamic\, accessible\, and efficient course content.  \n\n\n\nRegister for this event
URL:https://tl.ssc.edu/event/online-workshop-d2l-media-library-upload-and-or-record-videos-to-meet-accessibility-standards-25-pgus-2/
CATEGORIES:D2L
END:VEVENT
BEGIN:VEVENT
DTSTART;TZID=America/Chicago:20250828T130000
DTEND;TZID=America/Chicago:20250828T140000
DTSTAMP:20260422T195205
CREATED:20250623T194139Z
LAST-MODIFIED:20250623T194140Z
UID:10001000-1756386000-1756389600@tl.ssc.edu
SUMMARY:Using D2L Gradebook for In-Person\, Flex and Online Courses (Online Webinar) (.25 PGU)
DESCRIPTION:If you are teaching a traditional in-person\, flex and online course\, students appreciate instructors using the D2L online Gradebook as it promotes:  \n\n\n\n\nFaster Midterm\, Final and Attendance grade submission from D2L and export to the official Student Information System (Colleague) grade the submitted assignment and scores automatically sync to the D2L Gradebook.   \n\n\n\nTransparency\, Accountability and Timely Feedback (24/7 access to real-time grade totals. Students know where they stand throughout the term.) \n\n\n\nEncourages Communication Opportunities (students asking about how to improve grades) \n\n\n\nReduction of Errors (automatically calculates total column) \n\n\n\nPromotes Accessibility Accommodations (students can access with screen readers) \n\n\n\n\nJoin the Teaching and Learning Center for this online webinar as we get instructors started using the D2L Gradebook.   \n\n\n\nHere’s what we play to cover:   \n\n\n\n\nDemonstrate how assignments\, quizzes and discussion forums sync to the Gradebook. \n\n\n\nManually creating Gradebook columns and how to simply enter grades. \n\n\n\nBest practices of exporting Attendance\, Midterm and Final Grades to the SIS (Student Information System). \n\n\n\nIf weighing grades\, set up categories and apply to the Gradebook columns.  \n\n\n\n\nRegister for this Event
URL:https://tl.ssc.edu/event/using-d2l-gradebook-for-in-person-flex-and-online-courses-online-webinar-25-pgu-5/
CATEGORIES:D2L
END:VEVENT
END:VCALENDAR