BEGIN:VCALENDAR
VERSION:2.0
PRODID:-//Teaching, Learning, &amp; Technology Blog - ECPv6.15.18//NONSGML v1.0//EN
CALSCALE:GREGORIAN
METHOD:PUBLISH
X-ORIGINAL-URL:https://tl.ssc.edu
X-WR-CALDESC:Events for Teaching, Learning, &amp; Technology Blog
REFRESH-INTERVAL;VALUE=DURATION:PT1H
X-Robots-Tag:noindex
X-PUBLISHED-TTL:PT1H
BEGIN:VTIMEZONE
TZID:America/Chicago
BEGIN:DAYLIGHT
TZOFFSETFROM:-0600
TZOFFSETTO:-0500
TZNAME:CDT
DTSTART:20250309T080000
END:DAYLIGHT
BEGIN:STANDARD
TZOFFSETFROM:-0500
TZOFFSETTO:-0600
TZNAME:CST
DTSTART:20251102T070000
END:STANDARD
BEGIN:DAYLIGHT
TZOFFSETFROM:-0600
TZOFFSETTO:-0500
TZNAME:CDT
DTSTART:20260308T080000
END:DAYLIGHT
BEGIN:STANDARD
TZOFFSETFROM:-0500
TZOFFSETTO:-0600
TZNAME:CST
DTSTART:20261101T070000
END:STANDARD
BEGIN:DAYLIGHT
TZOFFSETFROM:-0600
TZOFFSETTO:-0500
TZNAME:CDT
DTSTART:20270314T080000
END:DAYLIGHT
BEGIN:STANDARD
TZOFFSETFROM:-0500
TZOFFSETTO:-0600
TZNAME:CST
DTSTART:20271107T070000
END:STANDARD
END:VTIMEZONE
BEGIN:VEVENT
DTSTART;TZID=America/Chicago:20260423T160000
DTEND;TZID=America/Chicago:20260423T170000
DTSTAMP:20260420T062921
CREATED:20260320T210220Z
LAST-MODIFIED:20260320T210243Z
UID:10001174-1776960000-1776963600@tl.ssc.edu
SUMMARY:Microsoft 365 Refresher for SSC Faculty and Staff (Outlook\, Teams and OneDrive) (Online Webinar)
DESCRIPTION:Ready for a Microsoft 365 refresher? Join us for an updated training session designed to help SSC faculty and staff make the most of the tools you use every day.  \n\n\n\nWe’ll cover the latest features and best practices for Outlook\, Teams\, and OneDrive\, including how to manage email and calendars more efficiently\, collaborate in real time\, and stay organized across devices. You’ll learn tips for using Teams as your central hub for communication and meetings\, as well as how OneDrive and cloud storage can simplify file access\, sharing\, and version control.  \n\n\n\nWhether you’re looking to brush up on the basics or discover new capabilities\, this session will help you work smarter and stay connected in today’s Microsoft 365 environment.  \n\n\n\nRegister for this Event
URL:https://tl.ssc.edu/event/microsoft-365-refresher-for-ssc-faculty-and-state-outlook-teams-and-onedrive-online-webinar/
CATEGORIES:D2L
END:VEVENT
END:VCALENDAR