BEGIN:VCALENDAR
VERSION:2.0
PRODID:-//Teaching, Learning, &amp; Technology Blog - ECPv6.15.18//NONSGML v1.0//EN
CALSCALE:GREGORIAN
METHOD:PUBLISH
X-ORIGINAL-URL:https://tl.ssc.edu
X-WR-CALDESC:Events for Teaching, Learning, &amp; Technology Blog
REFRESH-INTERVAL;VALUE=DURATION:PT1H
X-Robots-Tag:noindex
X-PUBLISHED-TTL:PT1H
BEGIN:VTIMEZONE
TZID:America/Chicago
BEGIN:DAYLIGHT
TZOFFSETFROM:-0600
TZOFFSETTO:-0500
TZNAME:CDT
DTSTART:20250309T080000
END:DAYLIGHT
BEGIN:STANDARD
TZOFFSETFROM:-0500
TZOFFSETTO:-0600
TZNAME:CST
DTSTART:20251102T070000
END:STANDARD
BEGIN:DAYLIGHT
TZOFFSETFROM:-0600
TZOFFSETTO:-0500
TZNAME:CDT
DTSTART:20260308T080000
END:DAYLIGHT
BEGIN:STANDARD
TZOFFSETFROM:-0500
TZOFFSETTO:-0600
TZNAME:CST
DTSTART:20261101T070000
END:STANDARD
BEGIN:DAYLIGHT
TZOFFSETFROM:-0600
TZOFFSETTO:-0500
TZNAME:CDT
DTSTART:20270314T080000
END:DAYLIGHT
BEGIN:STANDARD
TZOFFSETFROM:-0500
TZOFFSETTO:-0600
TZNAME:CST
DTSTART:20271107T070000
END:STANDARD
END:VTIMEZONE
BEGIN:VEVENT
DTSTART;TZID=America/Chicago:20260421T110000
DTEND;TZID=America/Chicago:20260421T120000
DTSTAMP:20260420T061014
CREATED:20251204T211414Z
LAST-MODIFIED:20251204T213801Z
UID:10001100-1776769200-1776772800@tl.ssc.edu
SUMMARY:Copyleaks Training Session (Vendor Webinar)
DESCRIPTION:Join Copyleaks Customer Success Manager\, Laina for a comprehensive training on how to utilize Copyleaks AI and Plagiarism Detection with your LMS integration! \n\n\n\nRegister for this event.
URL:https://tl.ssc.edu/event/copyleaks-training-session-5/
CATEGORIES:Vendor Webinar
END:VEVENT
BEGIN:VEVENT
DTSTART;TZID=America/Chicago:20260421T130000
DTEND;TZID=America/Chicago:20260421T140000
DTSTAMP:20260420T061014
CREATED:20260320T194401Z
LAST-MODIFIED:20260320T194402Z
UID:10001167-1776776400-1776780000@tl.ssc.edu
SUMMARY:QM: Beyond Textbooks and Lecture Videos: Engaging Learners with Varied Content (Vendor Webinar)
DESCRIPTION:Do textbooks and often lengthy lecture videos truly “work” for today’s learners? Break free from traditional content and discover alternatives that captivate learners and cultivate critical thinkers. Ensure your learners are not just passive recipients\, but active participants in their educational journey through seamlessly integrating engaging\, inclusive\, and interactive content into your curriculum. Plus\, gain insights on prepping your course for General Standard 4: Instructional Materials. \n\n\n\nRegister for this Event \n\n\n\nSpecial Note:  SSC is a member of Quality Matters\, so registration to this event is free.  However\, you may need to create an account.  Be sure to user your SSC email when creating the account.
URL:https://tl.ssc.edu/event/qm-beyond-textbooks-and-lecture-videos-engaging-learners-with-varied-content-vendor-webinar/
CATEGORIES:Vendor Webinar
END:VEVENT
END:VCALENDAR