BEGIN:VCALENDAR
VERSION:2.0
PRODID:-//Teaching, Learning, &amp; Technology Blog - ECPv6.15.18//NONSGML v1.0//EN
CALSCALE:GREGORIAN
METHOD:PUBLISH
X-WR-CALNAME:Teaching, Learning, &amp; Technology Blog
X-ORIGINAL-URL:https://tl.ssc.edu
X-WR-CALDESC:Events for Teaching, Learning, &amp; Technology Blog
REFRESH-INTERVAL;VALUE=DURATION:PT1H
X-Robots-Tag:noindex
X-PUBLISHED-TTL:PT1H
BEGIN:VTIMEZONE
TZID:America/Chicago
BEGIN:DAYLIGHT
TZOFFSETFROM:-0600
TZOFFSETTO:-0500
TZNAME:CDT
DTSTART:20250309T080000
END:DAYLIGHT
BEGIN:STANDARD
TZOFFSETFROM:-0500
TZOFFSETTO:-0600
TZNAME:CST
DTSTART:20251102T070000
END:STANDARD
BEGIN:DAYLIGHT
TZOFFSETFROM:-0600
TZOFFSETTO:-0500
TZNAME:CDT
DTSTART:20260308T080000
END:DAYLIGHT
BEGIN:STANDARD
TZOFFSETFROM:-0500
TZOFFSETTO:-0600
TZNAME:CST
DTSTART:20261101T070000
END:STANDARD
BEGIN:DAYLIGHT
TZOFFSETFROM:-0600
TZOFFSETTO:-0500
TZNAME:CDT
DTSTART:20270314T080000
END:DAYLIGHT
BEGIN:STANDARD
TZOFFSETFROM:-0500
TZOFFSETTO:-0600
TZNAME:CST
DTSTART:20271107T070000
END:STANDARD
END:VTIMEZONE
BEGIN:VEVENT
DTSTART;TZID=America/Chicago:20260401T090000
DTEND;TZID=America/Chicago:20260401T220000
DTSTAMP:20260420T062717
CREATED:20260320T211630Z
LAST-MODIFIED:20260320T211631Z
UID:10001176-1775034000-1775080800@tl.ssc.edu
SUMMARY:Kahoot! 101:  Getting Started (Vendor Webinar)
DESCRIPTION:In this Kahoot! for Schools Webinar\, learn how to foster engagement with Kahoot! tools\, templates\, and features. Kahoot! experts will share strategies for building your first kahoot\, exploring ready-made content\, Kahoot! question formats\, reporting resources. Take away tips\, tricks\, and tools to bring powerful play to your classroom\, no matter what learning might look like! This webinar will last for approximately one-hour and will include a resource review\, live-demo\, and interactive Kahoot! game. \n\n\n\nRegister for this Event \n\n\n\nSpecial Note:  If you need a Kahoot license\, please contact the Teaching and Learning Center at ssconline@ssc.edu.
URL:https://tl.ssc.edu/event/kahoot-101-getting-started-vendor-webinar-7/
CATEGORIES:Vendor Webinar
END:VEVENT
BEGIN:VEVENT
DTSTART;TZID=America/Chicago:20260401T130000
DTEND;TZID=America/Chicago:20260401T140000
DTSTAMP:20260420T062717
CREATED:20260320T201929Z
LAST-MODIFIED:20260320T201930Z
UID:10001170-1775048400-1775052000@tl.ssc.edu
SUMMARY:Chronicle of HE: The Next Evolution of Proactive Advising (Vendor Webinar)
DESCRIPTION:Proactive advising\, which began in the 1970s as an early-intervention strategy to prevent academic struggles\, has evolved into a cornerstone of student success in higher education. \n\n\n\nPaired with today’s technological tools and advancements\, this type of advising has the potential to help keep students on track\, reduce inefficiencies such as pricey\, unnecessary credits\, and improve retention at a time when many institutions face financial strain. \n\n\n\nJoin The Chronicle on Wednesday\, April 1\, at 2 p.m. ET for a virtual forum on the future of proactive advising. Experts will discuss what we can learn from its history to understand where it’s headed\, and how it can pair with new technology to improve student outcomes. \n\n\n\nRegister for this Event
URL:https://tl.ssc.edu/event/chronicle-of-he-the-next-evolution-of-proactive-advising-vendor-webinar/
CATEGORIES:Vendor Webinar
END:VEVENT
END:VCALENDAR