BEGIN:VCALENDAR
VERSION:2.0
PRODID:-//Teaching, Learning, &amp; Technology Blog - ECPv6.15.18//NONSGML v1.0//EN
CALSCALE:GREGORIAN
METHOD:PUBLISH
X-ORIGINAL-URL:https://tl.ssc.edu
X-WR-CALDESC:Events for Teaching, Learning, &amp; Technology Blog
REFRESH-INTERVAL;VALUE=DURATION:PT1H
X-Robots-Tag:noindex
X-PUBLISHED-TTL:PT1H
BEGIN:VTIMEZONE
TZID:America/Chicago
BEGIN:DAYLIGHT
TZOFFSETFROM:-0600
TZOFFSETTO:-0500
TZNAME:CDT
DTSTART:20250309T080000
END:DAYLIGHT
BEGIN:STANDARD
TZOFFSETFROM:-0500
TZOFFSETTO:-0600
TZNAME:CST
DTSTART:20251102T070000
END:STANDARD
BEGIN:DAYLIGHT
TZOFFSETFROM:-0600
TZOFFSETTO:-0500
TZNAME:CDT
DTSTART:20260308T080000
END:DAYLIGHT
BEGIN:STANDARD
TZOFFSETFROM:-0500
TZOFFSETTO:-0600
TZNAME:CST
DTSTART:20261101T070000
END:STANDARD
BEGIN:DAYLIGHT
TZOFFSETFROM:-0600
TZOFFSETTO:-0500
TZNAME:CDT
DTSTART:20270314T080000
END:DAYLIGHT
BEGIN:STANDARD
TZOFFSETFROM:-0500
TZOFFSETTO:-0600
TZNAME:CST
DTSTART:20271107T070000
END:STANDARD
END:VTIMEZONE
BEGIN:VEVENT
DTSTART;TZID=America/Chicago:20260331T140000
DTEND;TZID=America/Chicago:20260331T150000
DTSTAMP:20260420T075640
CREATED:20260219T214228Z
LAST-MODIFIED:20260219T214535Z
UID:10001150-1774965600-1774969200@tl.ssc.edu
SUMMARY:Integrating Backward Design with Inclusive Practices (Vendor Webinar)
DESCRIPTION:oin G-W for a transformative masterclass series that blends Understanding by Design (UbD) and Universal Design for Learning (UDL) to create learning experiences that are purposeful\, inclusive\, and future-ready. We’ll dive into backward planning\, learner variability\, accessibility\, and innovative strategies for online\, hybrid\, and microlearning environments. Whether you’re refining your design skills or starting fresh\, this series equips you with practical tools and proven frameworks to make learning stick and transfer beyond the classroom. \n\n\n\nMarch – UbD + UDL: Integrating Backward Design with Inclusive Practices \n\n\n\nCombine two powerful frameworks\, UbD and UDL to design courses that are both coherent and inclusive. This session shows how to align learning goals with flexible pathways for success. \n\n\n\nRegister for this Event
URL:https://tl.ssc.edu/event/integrating-backward-design-with-inclusive-practices-vendor-webinar/
CATEGORIES:Vendor Webinar
END:VEVENT
BEGIN:VEVENT
DTSTART;TZID=America/Chicago:20260331T150000
DTEND;TZID=America/Chicago:20260331T170000
DTSTAMP:20260420T075640
CREATED:20260320T155832Z
LAST-MODIFIED:20260320T162622Z
UID:10001156-1774969200-1774976400@tl.ssc.edu
SUMMARY:SSC Federal Accessibility Training for Staff and Faculty (Online Webinar)
DESCRIPTION:Beginning April 24\, 2026\, a new federal accessibility mandate requires that all state and local government digital content  (including websites\, mobile apps\, PDFs\, documents\, emails\, slide decks\, forms\, videos\, and online services) must fully comply with WCAG 2.1 Level AA standards. This requirement applies to South Suburban College. To help the campus prepare\, the SSC Accessibility Taskforce has requested that the Teaching and Learning Center provide basic training.    \n\n\n\nThis hands‑on session will introduce faculty and staff to the built‑in accessibility features within Microsoft Office\, including Word\, PowerPoint\, Excel\, and Outlook\, to ensure that documents\, presentations\, and communication are accessible to all learners and colleagues.  \n\n\n\nAdditionally\, we’ll dig into the nuts and bolts of making instructional material accessible as well.  You’ll learn how to apply universal design for learning (UDL) principles to your writing\, documents and media\, along with showcasing tools available to help you make that possible.  \n\n\n\nRegister for this Event  \n\n\n\nInterested in learning more about the federal accessibility mandate? Check out these great articles from WCET or the U.S. Department of Justice:  \n\n\n\nFact Sheet: New Rule on the Accessibility of Web Content and Mobile Apps Provided by State and Local Governments  \n\n\n\nMeeting the Looming Web Accessibility Regulations: The Time to Start Was Yesterday  
URL:https://tl.ssc.edu/event/ssc-federal-accessibility-training-for-staff-and-faculty-online-webinar/
CATEGORIES:D2L,Internal SSC Training
END:VEVENT
END:VCALENDAR