BEGIN:VCALENDAR
VERSION:2.0
PRODID:-//Teaching, Learning, &amp; Technology Blog - ECPv6.15.18//NONSGML v1.0//EN
CALSCALE:GREGORIAN
METHOD:PUBLISH
X-WR-CALNAME:Teaching, Learning, &amp; Technology Blog
X-ORIGINAL-URL:https://tl.ssc.edu
X-WR-CALDESC:Events for Teaching, Learning, &amp; Technology Blog
REFRESH-INTERVAL;VALUE=DURATION:PT1H
X-Robots-Tag:noindex
X-PUBLISHED-TTL:PT1H
BEGIN:VTIMEZONE
TZID:America/Chicago
BEGIN:DAYLIGHT
TZOFFSETFROM:-0600
TZOFFSETTO:-0500
TZNAME:CDT
DTSTART:20250309T080000
END:DAYLIGHT
BEGIN:STANDARD
TZOFFSETFROM:-0500
TZOFFSETTO:-0600
TZNAME:CST
DTSTART:20251102T070000
END:STANDARD
BEGIN:DAYLIGHT
TZOFFSETFROM:-0600
TZOFFSETTO:-0500
TZNAME:CDT
DTSTART:20260308T080000
END:DAYLIGHT
BEGIN:STANDARD
TZOFFSETFROM:-0500
TZOFFSETTO:-0600
TZNAME:CST
DTSTART:20261101T070000
END:STANDARD
BEGIN:DAYLIGHT
TZOFFSETFROM:-0600
TZOFFSETTO:-0500
TZNAME:CDT
DTSTART:20270314T080000
END:DAYLIGHT
BEGIN:STANDARD
TZOFFSETFROM:-0500
TZOFFSETTO:-0600
TZNAME:CST
DTSTART:20271107T070000
END:STANDARD
END:VTIMEZONE
BEGIN:VEVENT
DTSTART;TZID=America/Chicago:20260311T000000
DTEND;TZID=America/Chicago:20260311T130000
DTSTAMP:20260421T214359
CREATED:20260206T205506Z
LAST-MODIFIED:20260206T205508Z
UID:10001142-1773187200-1773234000@tl.ssc.edu
SUMMARY:Ten Practical AI Tactics Every Instructor Should Know(Vendor Webinar)
DESCRIPTION:Join Penn State instructor and author Frank Sorokach for a fast\, focused session highlighting 10 practical AI tactics you can start using right away. Building on his work with emerging AI trends\, Frank shifts to hands‑on strategies that streamline tasks\, enhance instruction\, and support student learning. You’ll leave with simple\, effective ideas you can immediately apply in your teaching. \n\n\n\nRegister for this event \n\n\n\nSpecial Note: This event is hosted by McGraw-Hill. However\, you do not need to use the McGraw-Hill textbook and instead attend for exploration.
URL:https://tl.ssc.edu/event/ten-practical-ai-tactics-every-instructor-should-knowvendor-webinar/
CATEGORIES:Vendor Webinar
END:VEVENT
BEGIN:VEVENT
DTSTART;TZID=America/Chicago:20260311T120000
DTEND;TZID=America/Chicago:20260311T130000
DTSTAMP:20260421T214359
CREATED:20260206T181650Z
LAST-MODIFIED:20260206T181654Z
UID:10001119-1773230400-1773234000@tl.ssc.edu
SUMMARY:D2L: Increasing Learner Accountability with Class Progress & Completion Tracking (Vendor Webinar)
DESCRIPTION:Learn how to use Class Progress and Completion Tracking to monitor engagement and identify challenges early \n\n\n\nExplore key data points that help you understand learner behavior and support timely interventions \n\n\n\nDiscover strategies to communicate progress updates and guide learners toward increased accountability \n\n\n\n\nRegister for this Event \n\n\n\nSpecial Note – this event is hosted by D2L.  When registering\, please use your SSC email address.
URL:https://tl.ssc.edu/event/d2l-increasing-learner-accountability-with-class-progress-completion-tracking-vendor-webinar/
CATEGORIES:D2L
END:VEVENT
END:VCALENDAR