BEGIN:VCALENDAR
VERSION:2.0
PRODID:-//Teaching, Learning, &amp; Technology Blog - ECPv6.15.18//NONSGML v1.0//EN
CALSCALE:GREGORIAN
METHOD:PUBLISH
X-WR-CALNAME:Teaching, Learning, &amp; Technology Blog
X-ORIGINAL-URL:https://tl.ssc.edu
X-WR-CALDESC:Events for Teaching, Learning, &amp; Technology Blog
REFRESH-INTERVAL;VALUE=DURATION:PT1H
X-Robots-Tag:noindex
X-PUBLISHED-TTL:PT1H
BEGIN:VTIMEZONE
TZID:America/Chicago
BEGIN:DAYLIGHT
TZOFFSETFROM:-0600
TZOFFSETTO:-0500
TZNAME:CDT
DTSTART:20250309T080000
END:DAYLIGHT
BEGIN:STANDARD
TZOFFSETFROM:-0500
TZOFFSETTO:-0600
TZNAME:CST
DTSTART:20251102T070000
END:STANDARD
BEGIN:DAYLIGHT
TZOFFSETFROM:-0600
TZOFFSETTO:-0500
TZNAME:CDT
DTSTART:20260308T080000
END:DAYLIGHT
BEGIN:STANDARD
TZOFFSETFROM:-0500
TZOFFSETTO:-0600
TZNAME:CST
DTSTART:20261101T070000
END:STANDARD
BEGIN:DAYLIGHT
TZOFFSETFROM:-0600
TZOFFSETTO:-0500
TZNAME:CDT
DTSTART:20270314T080000
END:DAYLIGHT
BEGIN:STANDARD
TZOFFSETFROM:-0500
TZOFFSETTO:-0600
TZNAME:CST
DTSTART:20271107T070000
END:STANDARD
END:VTIMEZONE
BEGIN:VEVENT
DTSTART;TZID=America/Chicago:20260304T110000
DTEND;TZID=America/Chicago:20260304T123000
DTSTAMP:20260422T122904
CREATED:20260206T211945Z
LAST-MODIFIED:20260206T212015Z
UID:10001146-1772622000-1772627400@tl.ssc.edu
SUMMARY:CARLI Open Pedagogy Workshop (Vendor Webinar)
DESCRIPTION:When you use open pedagogy in your classroom\, you are inviting students to be part of the teaching process\, participating in the co-creation of knowledge. In this online workshop\, you will learn the definition and context of Open Pedagogy\, view innovative examples being applied in a variety of subjects and formats\, and work with other attendees to create an assignment that you can use in your own class.  \n\n\n\nPresenters:Kelly Hallisy\, DePaul University;Lauren Kosrow\, College of DuPage;Nicole Swanson\, Elizabeth Clarage\, Michele Leigh\, CARLI \n\n\n\nRegister for this event \n\n\n\nSpecial Note:  The SSC Library is a member of CARLI.
URL:https://tl.ssc.edu/event/carli-open-pedagogy-workshop-vendor-webinar/
CATEGORIES:Vendor Webinar
END:VEVENT
BEGIN:VEVENT
DTSTART;TZID=America/Chicago:20260304T130000
DTEND;TZID=America/Chicago:20260304T140000
DTSTAMP:20260422T122904
CREATED:20260206T184422Z
LAST-MODIFIED:20260206T184429Z
UID:10001125-1772629200-1772632800@tl.ssc.edu
SUMMARY:Build a Better World Through Biology Teaching (Vendor Webinar)
DESCRIPTION:What if you could hand your biology students the tools to not only better themselves but also improve their communities — all within the span of one term? \n\n\n\nJoin Dr. Melanie Peffer for an interactive webinar featuring simple teaching strategies you can leverage to inspire curiosity in your students and motivate them to create real change in the world.  \n\n\n\nDr. Peffer is the author of the new non-majors biology textbook\, “Biology for Life\,” 1e\, supported by the upcoming MindTap course. She is eager to bring her uniquely innovative and hopeful approach to this webinar where she’ll explore:  \n\n\n\n\nWays to make biology content accessible and relatable\n\n\n\nHow to discuss complex topics in the classroom\n\n\n\nTips for balancing present realities with a positive outlook \n\n\n\n\nRegister for this event \n\n\n\nSpecial Note:  This event is hosted by Cengage.  However\, you do not need to use the Cengage textbook and instead attend for exploration.
URL:https://tl.ssc.edu/event/build-a-better-world-through-biology-teaching-vendor-webinar/
CATEGORIES:Vendor Webinar
END:VEVENT
END:VCALENDAR