BEGIN:VCALENDAR
VERSION:2.0
PRODID:-//Teaching, Learning, &amp; Technology Blog - ECPv6.15.18//NONSGML v1.0//EN
CALSCALE:GREGORIAN
METHOD:PUBLISH
X-ORIGINAL-URL:https://tl.ssc.edu
X-WR-CALDESC:Events for Teaching, Learning, &amp; Technology Blog
REFRESH-INTERVAL;VALUE=DURATION:PT1H
X-Robots-Tag:noindex
X-PUBLISHED-TTL:PT1H
BEGIN:VTIMEZONE
TZID:America/Chicago
BEGIN:DAYLIGHT
TZOFFSETFROM:-0600
TZOFFSETTO:-0500
TZNAME:CDT
DTSTART:20250309T080000
END:DAYLIGHT
BEGIN:STANDARD
TZOFFSETFROM:-0500
TZOFFSETTO:-0600
TZNAME:CST
DTSTART:20251102T070000
END:STANDARD
BEGIN:DAYLIGHT
TZOFFSETFROM:-0600
TZOFFSETTO:-0500
TZNAME:CDT
DTSTART:20260308T080000
END:DAYLIGHT
BEGIN:STANDARD
TZOFFSETFROM:-0500
TZOFFSETTO:-0600
TZNAME:CST
DTSTART:20261101T070000
END:STANDARD
BEGIN:DAYLIGHT
TZOFFSETFROM:-0600
TZOFFSETTO:-0500
TZNAME:CDT
DTSTART:20270314T080000
END:DAYLIGHT
BEGIN:STANDARD
TZOFFSETFROM:-0500
TZOFFSETTO:-0600
TZNAME:CST
DTSTART:20271107T070000
END:STANDARD
END:VTIMEZONE
BEGIN:VEVENT
DTSTART;TZID=America/Chicago:20260226T100000
DTEND;TZID=America/Chicago:20260226T110000
DTSTAMP:20260422T223042
CREATED:20260206T203939Z
LAST-MODIFIED:20260206T203942Z
UID:10001137-1772100000-1772103600@tl.ssc.edu
SUMMARY:Psych Ed Talk: Teaching in a Polarized World (Vendor Webinar)
DESCRIPTION:When topics are politically charged\, students often disengage or defensively filter evidence. This session offers a research-informed approach to teaching under these conditions. Participants will see how imagined worlds—alien ecologies\, dystopian societies\, interplanetary crises—can lower threat and let students practice reasoning before applying those skills to real contemporary debates. Concrete classroom activities will be shared. \n\n\n\nRegister for this event \n\n\n\nSpecial Note: This event is hosted by McGraw-Hill. However\, you do not need to use the McGraw-Hill textbook and instead attend for exploration.
URL:https://tl.ssc.edu/event/psych-ed-talk-teaching-in-a-polarized-world-vendor-webinar/
CATEGORIES:Vendor Webinar
END:VEVENT
BEGIN:VEVENT
DTSTART;TZID=America/Chicago:20260226T140000
DTEND;TZID=America/Chicago:20260226T150000
DTSTAMP:20260422T223042
CREATED:20260206T211552Z
LAST-MODIFIED:20260206T211555Z
UID:10001145-1772114400-1772118000@tl.ssc.edu
SUMMARY:CARLI Navigating the Continual Evolving AI Landscape  (Vendor Webinar)
DESCRIPTION:Do you feel like the world of AI is imploding around you? Whether it’s the continually changing interfaces\, the dozens of new AI tools popping up weekly\, or your favorite platform suddenly adding a suite of functions you didn’t ask for it’s easy to feel left behind. In a world where “state-of-the-art” changes every few months\, the goal isn’t just to keep up; it’s to develop a sustainable system for adaptation. \n\n\n\nThis webinar is designed to help you develop a foundational understanding of artificial intelligence and build a personalized strategy for learning and future growth.  \n\n\n\nRegister for this event \n\n\n\nSpecial Note:  The SSC Library is a member of CARLI.
URL:https://tl.ssc.edu/event/carli-navigating-the-continual-evolving-ai-landscape-vendor-webinar/
CATEGORIES:Vendor Webinar
END:VEVENT
END:VCALENDAR