BEGIN:VCALENDAR
VERSION:2.0
PRODID:-//Teaching, Learning, &amp; Technology Blog - ECPv6.15.18//NONSGML v1.0//EN
CALSCALE:GREGORIAN
METHOD:PUBLISH
X-WR-CALNAME:Teaching, Learning, &amp; Technology Blog
X-ORIGINAL-URL:https://tl.ssc.edu
X-WR-CALDESC:Events for Teaching, Learning, &amp; Technology Blog
REFRESH-INTERVAL;VALUE=DURATION:PT1H
X-Robots-Tag:noindex
X-PUBLISHED-TTL:PT1H
BEGIN:VTIMEZONE
TZID:America/Chicago
BEGIN:DAYLIGHT
TZOFFSETFROM:-0600
TZOFFSETTO:-0500
TZNAME:CDT
DTSTART:20250309T080000
END:DAYLIGHT
BEGIN:STANDARD
TZOFFSETFROM:-0500
TZOFFSETTO:-0600
TZNAME:CST
DTSTART:20251102T070000
END:STANDARD
BEGIN:DAYLIGHT
TZOFFSETFROM:-0600
TZOFFSETTO:-0500
TZNAME:CDT
DTSTART:20260308T080000
END:DAYLIGHT
BEGIN:STANDARD
TZOFFSETFROM:-0500
TZOFFSETTO:-0600
TZNAME:CST
DTSTART:20261101T070000
END:STANDARD
BEGIN:DAYLIGHT
TZOFFSETFROM:-0600
TZOFFSETTO:-0500
TZNAME:CDT
DTSTART:20270314T080000
END:DAYLIGHT
BEGIN:STANDARD
TZOFFSETFROM:-0500
TZOFFSETTO:-0600
TZNAME:CST
DTSTART:20271107T070000
END:STANDARD
END:VTIMEZONE
BEGIN:VEVENT
DTSTART;TZID=America/Chicago:20260212T120000
DTEND;TZID=America/Chicago:20260212T130000
DTSTAMP:20260422T222903
CREATED:20260206T201256Z
LAST-MODIFIED:20260206T201258Z
UID:10001130-1770897600-1770901200@tl.ssc.edu
SUMMARY:AI for Instructors: Classroom Tools and Curriculum Insights (Vendor Webinar)
DESCRIPTION:Join Ted Tedmon and Casey Wilhelm for an engaging webinar\, “AI for Instructors: Classroom Tools and Curriculum Insights\,” a practical look at bringing generative AI into today’s MIS courses. This conversation explores how AI is reshaping higher education—from tools like ChatGPT and Copilot to the evolving ways students and instructors are using them. Discover strategies for setting clear usage expectations\, validating AI‑generated information\, and leveraging generative AI as a meaningful\, responsible teaching tool in the MIS classroom. \n\n\n\nRegister for this event \n\n\n\nSpecial Note: This event is hosted by McGraw-Hill. However\, you do not need to use the McGraw-Hill textbook and instead attend for exploration.
URL:https://tl.ssc.edu/event/ai-for-instructors-classroom-tools-and-curriculum-insights-vendor-webinar/
CATEGORIES:Vendor Webinar
END:VEVENT
BEGIN:VEVENT
DTSTART;TZID=America/Chicago:20260212T130000
DTEND;TZID=America/Chicago:20260212T140000
DTSTAMP:20260422T222903
CREATED:20260206T181109Z
LAST-MODIFIED:20260206T181111Z
UID:10001118-1770901200-1770904800@tl.ssc.edu
SUMMARY:D2L: Practical AI for Higher Ed: Designing\, Assessing and Innovating (Vendor Webinar)
DESCRIPTION:Join us  for a dynamic\, hands-on session exploring real strategies for using AI to enhance teaching and learning.  We’ll walk through how to build custom GPTs\, create immersive scenario-based learning\, and reimagine assessment for an AI-driven era. You’ll also get a preview of what’s next in AI and how your institution can stay ahead of the curve.  \n\n\n\nRegister for this Event \n\n\n\nSpecial Note – this event is hosted by D2L.  When registering\, please use your SSC email address.
URL:https://tl.ssc.edu/event/d2l-practical-ai-for-higher-ed-designing-assessing-and-innovating-vendor-webinar/
CATEGORIES:D2L
END:VEVENT
END:VCALENDAR