BEGIN:VCALENDAR
VERSION:2.0
PRODID:-//Teaching, Learning, &amp; Technology Blog - ECPv6.15.18//NONSGML v1.0//EN
CALSCALE:GREGORIAN
METHOD:PUBLISH
X-ORIGINAL-URL:https://tl.ssc.edu
X-WR-CALDESC:Events for Teaching, Learning, &amp; Technology Blog
REFRESH-INTERVAL;VALUE=DURATION:PT1H
X-Robots-Tag:noindex
X-PUBLISHED-TTL:PT1H
BEGIN:VTIMEZONE
TZID:America/Chicago
BEGIN:DAYLIGHT
TZOFFSETFROM:-0600
TZOFFSETTO:-0500
TZNAME:CDT
DTSTART:20250309T080000
END:DAYLIGHT
BEGIN:STANDARD
TZOFFSETFROM:-0500
TZOFFSETTO:-0600
TZNAME:CST
DTSTART:20251102T070000
END:STANDARD
BEGIN:DAYLIGHT
TZOFFSETFROM:-0600
TZOFFSETTO:-0500
TZNAME:CDT
DTSTART:20260308T080000
END:DAYLIGHT
BEGIN:STANDARD
TZOFFSETFROM:-0500
TZOFFSETTO:-0600
TZNAME:CST
DTSTART:20261101T070000
END:STANDARD
BEGIN:DAYLIGHT
TZOFFSETFROM:-0600
TZOFFSETTO:-0500
TZNAME:CDT
DTSTART:20270314T080000
END:DAYLIGHT
BEGIN:STANDARD
TZOFFSETFROM:-0500
TZOFFSETTO:-0600
TZNAME:CST
DTSTART:20271107T070000
END:STANDARD
END:VTIMEZONE
BEGIN:VEVENT
DTSTART;TZID=America/Chicago:20260211T080000
DTEND;TZID=America/Chicago:20260211T170000
DTSTAMP:20260422T223043
CREATED:20251023T212032Z
LAST-MODIFIED:20251023T212035Z
UID:10001095-1770796800-1770829200@tl.ssc.edu
SUMMARY:Personalize and Engage: Using Brightspace Tools to Support Every Learner (Vendor Webinar)
DESCRIPTION:Discover how to create a more engaging and inclusive learning environment by tailoring course experiences to meet the diverse needs of your students. In this session\, you’ll learn how to automate personalized communication and reminders\, recognize and motivate student achievements\, customize access to course content\, and provide targeted support for learners with different needs.  \n\n\n\nGain practical strategies to boost student motivation and success while keeping your course organized and efficient. Whether your goal is to increase engagement or offer flexible learning pathways\, this webinar will equip you with actionable insights to make your Brightspace course truly student-centered.  \n\n\n\nRegister for this Event
URL:https://tl.ssc.edu/event/personalize-and-engage-using-brightspace-tools-to-support-every-learner-vendor-webinar/
CATEGORIES:D2L
END:VEVENT
END:VCALENDAR