BEGIN:VCALENDAR
VERSION:2.0
PRODID:-//Teaching, Learning, &amp; Technology Blog - ECPv6.15.18//NONSGML v1.0//EN
CALSCALE:GREGORIAN
METHOD:PUBLISH
X-WR-CALNAME:Teaching, Learning, &amp; Technology Blog
X-ORIGINAL-URL:https://tl.ssc.edu
X-WR-CALDESC:Events for Teaching, Learning, &amp; Technology Blog
REFRESH-INTERVAL;VALUE=DURATION:PT1H
X-Robots-Tag:noindex
X-PUBLISHED-TTL:PT1H
BEGIN:VTIMEZONE
TZID:America/Chicago
BEGIN:DAYLIGHT
TZOFFSETFROM:-0600
TZOFFSETTO:-0500
TZNAME:CDT
DTSTART:20250309T080000
END:DAYLIGHT
BEGIN:STANDARD
TZOFFSETFROM:-0500
TZOFFSETTO:-0600
TZNAME:CST
DTSTART:20251102T070000
END:STANDARD
BEGIN:DAYLIGHT
TZOFFSETFROM:-0600
TZOFFSETTO:-0500
TZNAME:CDT
DTSTART:20260308T080000
END:DAYLIGHT
BEGIN:STANDARD
TZOFFSETFROM:-0500
TZOFFSETTO:-0600
TZNAME:CST
DTSTART:20261101T070000
END:STANDARD
BEGIN:DAYLIGHT
TZOFFSETFROM:-0600
TZOFFSETTO:-0500
TZNAME:CDT
DTSTART:20270314T080000
END:DAYLIGHT
BEGIN:STANDARD
TZOFFSETFROM:-0500
TZOFFSETTO:-0600
TZNAME:CST
DTSTART:20271107T070000
END:STANDARD
END:VTIMEZONE
BEGIN:VEVENT
DTSTART;TZID=America/Chicago:20260210T120000
DTEND;TZID=America/Chicago:20260210T130000
DTSTAMP:20260422T222840
CREATED:20260206T200451Z
LAST-MODIFIED:20260206T200516Z
UID:10001128-1770724800-1770728400@tl.ssc.edu
SUMMARY:Education\, Rehumanized: Teaching\, Assessment\, and AI with Purpose (Vendor Webinar)
DESCRIPTION:What if education prioritized people before performance—Because You Matter? \n\n\n\nThis webinar invites educators and academic leaders to reimagine teaching\, assessment\, and AI through a human-centered lens. Grounded in the framework of Radical Belonging\, we’ll explore how psychological safety\, competence\, relatedness\, and autonomy create learning environments where students and faculty can truly thrive. \n\n\n\nParticipants will examine the power of “Real Talk” pedagogy\, the limits of rigor without relationship\, and how to use AI intentionally leveraging technology for efficiency while protecting the slow\, relational work only humans can do. We’ll also explore approaches to assessment that prioritize growth\, support\, and student voice over compliance and surveillance. \n\n\n\nDesigned for those leading classrooms\, programs\, or institutions\, this session offers practical insight for building learning systems that are inclusive\, resilient\, and deeply human. \n\n\n\nBecause when people feel they matter\, learning changes—and so does everything else. \n\n\n\nRegister for this event \n\n\n\nSpecial Note: This event is hosted by McGraw-Hill. However\, you do not need to use the McGraw-Hill textbook and instead attend for exploration.
URL:https://tl.ssc.edu/event/education-rehumanized-teaching-assessment-and-ai-with-purpose-vendor-webinar/
CATEGORIES:Vendor Webinar
END:VEVENT
BEGIN:VEVENT
DTSTART;TZID=America/Chicago:20260210T120000
DTEND;TZID=America/Chicago:20260210T130000
DTSTAMP:20260422T222840
CREATED:20260206T200906Z
LAST-MODIFIED:20260206T200908Z
UID:10001129-1770724800-1770728400@tl.ssc.edu
SUMMARY:Using Copilot to Support Teaching and Student Success (Vendor Webinar)
DESCRIPTION:Join McGraw Hill author and CIT instructor Randy Nordell for a practical look at how Copilot can enhance your teaching workflow and support stronger student learning. Randy will demonstrate real classroom examples\, share time‑saving strategies\, and highlight ways Copilot can help faculty work more efficiently. \n\n\n\nRegister for this event \n\n\n\nSpecial Note: This event is hosted by McGraw-Hill. However\, you do not need to use the McGraw-Hill textbook and instead attend for exploration.
URL:https://tl.ssc.edu/event/using-copilot-to-support-teaching-and-student-success-vendor-webinar/
CATEGORIES:Vendor Webinar
END:VEVENT
END:VCALENDAR