BEGIN:VCALENDAR
VERSION:2.0
PRODID:-//Teaching, Learning, &amp; Technology Blog - ECPv6.15.18//NONSGML v1.0//EN
CALSCALE:GREGORIAN
METHOD:PUBLISH
X-ORIGINAL-URL:https://tl.ssc.edu
X-WR-CALDESC:Events for Teaching, Learning, &amp; Technology Blog
REFRESH-INTERVAL;VALUE=DURATION:PT1H
X-Robots-Tag:noindex
X-PUBLISHED-TTL:PT1H
BEGIN:VTIMEZONE
TZID:America/Chicago
BEGIN:DAYLIGHT
TZOFFSETFROM:-0600
TZOFFSETTO:-0500
TZNAME:CDT
DTSTART:20240310T080000
END:DAYLIGHT
BEGIN:STANDARD
TZOFFSETFROM:-0500
TZOFFSETTO:-0600
TZNAME:CST
DTSTART:20241103T070000
END:STANDARD
BEGIN:DAYLIGHT
TZOFFSETFROM:-0600
TZOFFSETTO:-0500
TZNAME:CDT
DTSTART:20250309T080000
END:DAYLIGHT
BEGIN:STANDARD
TZOFFSETFROM:-0500
TZOFFSETTO:-0600
TZNAME:CST
DTSTART:20251102T070000
END:STANDARD
BEGIN:DAYLIGHT
TZOFFSETFROM:-0600
TZOFFSETTO:-0500
TZNAME:CDT
DTSTART:20260308T080000
END:DAYLIGHT
BEGIN:STANDARD
TZOFFSETFROM:-0500
TZOFFSETTO:-0600
TZNAME:CST
DTSTART:20261101T070000
END:STANDARD
END:VTIMEZONE
BEGIN:VEVENT
DTSTART;TZID=America/Chicago:20251208T080000
DTEND;TZID=America/Chicago:20251212T170000
DTSTAMP:20260423T013853
CREATED:20251022T162548Z
LAST-MODIFIED:20251022T162551Z
UID:10001064-1765180800-1765558800@tl.ssc.edu
SUMMARY:Finals Week
DESCRIPTION:
URL:https://tl.ssc.edu/event/finals-week-2/
END:VEVENT
BEGIN:VEVENT
DTSTART;TZID=America/Chicago:20251211T130000
DTEND;TZID=America/Chicago:20251211T140000
DTSTAMP:20260423T013853
CREATED:20251015T154211Z
LAST-MODIFIED:20251023T173701Z
UID:10001059-1765458000-1765461600@tl.ssc.edu
SUMMARY:Staff Training Session: Creating Accessible Documents in Microsoft Office
DESCRIPTION:In April 2026\, new accessibility legislation goes into effect\, requiring all digital documents to meet updated accessibility standards. This training session will equip staff with the knowledge and tools needed to create accessible documents using Microsoft Office applications such as Word\, Excel\, PowerPoint and Outlook.   \n\n\n\nParticipants will learn how to use the built-in Accessibility Checker\, identify and correct common accessibility issues\, and apply best practices to ensure content is readable and usable for all audiences\, including individuals with disabilities.  \n\n\n\nRegister for this Event
URL:https://tl.ssc.edu/event/staff-training-session-creating-accessible-documents-in-microsoft-office/
CATEGORIES:D2L
END:VEVENT
END:VCALENDAR