BEGIN:VCALENDAR
VERSION:2.0
PRODID:-//Teaching, Learning, &amp; Technology Blog - ECPv6.15.18//NONSGML v1.0//EN
CALSCALE:GREGORIAN
METHOD:PUBLISH
X-ORIGINAL-URL:https://tl.ssc.edu
X-WR-CALDESC:Events for Teaching, Learning, &amp; Technology Blog
REFRESH-INTERVAL;VALUE=DURATION:PT1H
X-Robots-Tag:noindex
X-PUBLISHED-TTL:PT1H
BEGIN:VTIMEZONE
TZID:America/Chicago
BEGIN:DAYLIGHT
TZOFFSETFROM:-0600
TZOFFSETTO:-0500
TZNAME:CDT
DTSTART:20240310T080000
END:DAYLIGHT
BEGIN:STANDARD
TZOFFSETFROM:-0500
TZOFFSETTO:-0600
TZNAME:CST
DTSTART:20241103T070000
END:STANDARD
BEGIN:DAYLIGHT
TZOFFSETFROM:-0600
TZOFFSETTO:-0500
TZNAME:CDT
DTSTART:20250309T080000
END:DAYLIGHT
BEGIN:STANDARD
TZOFFSETFROM:-0500
TZOFFSETTO:-0600
TZNAME:CST
DTSTART:20251102T070000
END:STANDARD
BEGIN:DAYLIGHT
TZOFFSETFROM:-0600
TZOFFSETTO:-0500
TZNAME:CDT
DTSTART:20260308T080000
END:DAYLIGHT
BEGIN:STANDARD
TZOFFSETFROM:-0500
TZOFFSETTO:-0600
TZNAME:CST
DTSTART:20261101T070000
END:STANDARD
END:VTIMEZONE
BEGIN:VEVENT
DTSTART;TZID=America/Chicago:20251208T080000
DTEND;TZID=America/Chicago:20251212T170000
DTSTAMP:20260423T013855
CREATED:20251022T162548Z
LAST-MODIFIED:20251022T162551Z
UID:10001064-1765180800-1765558800@tl.ssc.edu
SUMMARY:Finals Week
DESCRIPTION:
URL:https://tl.ssc.edu/event/finals-week-2/
END:VEVENT
BEGIN:VEVENT
DTSTART;TZID=America/Chicago:20251210T120000
DTEND;TZID=America/Chicago:20251210T130000
DTSTAMP:20260423T013855
CREATED:20251023T195657Z
LAST-MODIFIED:20251204T214214Z
UID:10001094-1765368000-1765371600@tl.ssc.edu
SUMMARY:D2L Brightspace - Optimizing Course Content (Vendor Webinar)
DESCRIPTION:Join Instructional Designers from D2L’s Learning Services team as they share practical strategies for building effective Brightspace courses that support fully online\, hybrid\, and in-person delivery. You’ll explore how to optimize your course content using multimedia elements and accessibility best practices—ensuring a more engaging and inclusive experience for all learners. Whether you’re starting from scratch or reworking an existing course\, this webinar will give you concrete tips\, design comparisons across delivery models\, and expert insights to help you move forward with confidence. \n\n\n\nRegister for this Event
URL:https://tl.ssc.edu/event/d2l-brightspace-optimizing-course-content-vendor-webinar/
CATEGORIES:D2L
END:VEVENT
BEGIN:VEVENT
DTSTART;TZID=America/Chicago:20251210T130000
DTEND;TZID=America/Chicago:20251210T140000
DTSTAMP:20260423T013855
CREATED:20251023T185152Z
LAST-MODIFIED:20251023T185156Z
UID:10001080-1765371600-1765375200@tl.ssc.edu
SUMMARY:Howard University: Learning Design and Quality Assurance: A Framework for Collaboration and Innovation (Vendor Webinar)
DESCRIPTION:Designing high-quality online courses requires intentional planning\, alignment\, and continuous improvement. At Howard University\, the Learning Design and Quality Assurance (LDQA) process offers a collaborative and adaptable framework that promotes best practices while supporting instructor creativity. This webinar will showcase the LDQA process and the strategies that make it effective — from planning and collaboration to quality review and refinement of online courses. Participants will learn how LDQA supports faculty in developing engaging\, quality-aligned courses without sacrificing their unique teaching approaches. Real-world examples will highlight how LDQA fosters innovation\, maintains quality\, and promotes a culture of excellence in online learning. \n\n\n\nRegister for this event \n\n\n\nSpecial Note:  SSC is a member of Quality Matters\, so this webinar is free.  You may be asked to create a Quality Matters account.  Make certain to use your SSC email address.
URL:https://tl.ssc.edu/event/howard-university-learning-design-and-quality-assurance-a-framework-for-collaboration-and-innovation-vendor-webinar/
CATEGORIES:Vendor Webinar
END:VEVENT
BEGIN:VEVENT
DTSTART;TZID=America/Chicago:20251210T130000
DTEND;TZID=America/Chicago:20251210T140000
DTSTAMP:20260423T013855
CREATED:20251204T213412Z
LAST-MODIFIED:20251204T214200Z
UID:10001110-1765371600-1765375200@tl.ssc.edu
SUMMARY:Respondus Lockdown Browser Training (Vendor Webinar)
DESCRIPTION:This comprehensive training webinar is intended for instructors who plan to use LockDown Browser and/or Respondus Monitor with online exams. The session provides a detailed demonstration of both applications\, including enhancements that make Respondus Monitor even more effective and easy to use. \n\n\n\nRegister for this event.
URL:https://tl.ssc.edu/event/respondus-lockdown-browser-training-vendor-webinar-4/
CATEGORIES:Vendor Webinar
END:VEVENT
END:VCALENDAR