BEGIN:VCALENDAR
VERSION:2.0
PRODID:-//Teaching, Learning, &amp; Technology Blog - ECPv6.15.18//NONSGML v1.0//EN
CALSCALE:GREGORIAN
METHOD:PUBLISH
X-ORIGINAL-URL:https://tl.ssc.edu
X-WR-CALDESC:Events for Teaching, Learning, &amp; Technology Blog
REFRESH-INTERVAL;VALUE=DURATION:PT1H
X-Robots-Tag:noindex
X-PUBLISHED-TTL:PT1H
BEGIN:VTIMEZONE
TZID:America/Chicago
BEGIN:DAYLIGHT
TZOFFSETFROM:-0600
TZOFFSETTO:-0500
TZNAME:CDT
DTSTART:20240310T080000
END:DAYLIGHT
BEGIN:STANDARD
TZOFFSETFROM:-0500
TZOFFSETTO:-0600
TZNAME:CST
DTSTART:20241103T070000
END:STANDARD
BEGIN:DAYLIGHT
TZOFFSETFROM:-0600
TZOFFSETTO:-0500
TZNAME:CDT
DTSTART:20250309T080000
END:DAYLIGHT
BEGIN:STANDARD
TZOFFSETFROM:-0500
TZOFFSETTO:-0600
TZNAME:CST
DTSTART:20251102T070000
END:STANDARD
BEGIN:DAYLIGHT
TZOFFSETFROM:-0600
TZOFFSETTO:-0500
TZNAME:CDT
DTSTART:20260308T080000
END:DAYLIGHT
BEGIN:STANDARD
TZOFFSETFROM:-0500
TZOFFSETTO:-0600
TZNAME:CST
DTSTART:20261101T070000
END:STANDARD
END:VTIMEZONE
BEGIN:VEVENT
DTSTART;TZID=America/Chicago:20251001T090000
DTEND;TZID=America/Chicago:20251001T220000
DTSTAMP:20260423T050532
CREATED:20250625T175325Z
LAST-MODIFIED:20250625T175326Z
UID:10001030-1759309200-1759356000@tl.ssc.edu
SUMMARY:Kahoot 101: Getting Started (Vendor Webinar) 
DESCRIPTION:Welcome to Kahoot! 101: Getting Started In this Kahoot! for Schools Webinar\, learn how to foster engagement with Kahoot! tools\, templates\, and features. Kahoot! experts will share strategies for building your first kahoot\, exploring ready-made content\, Kahoot! question formats\, reporting resources. Take away tips\, tricks\, and tools to bring powerful play to your classroom\, no matter what learning might look like! This webinar will last for approximately one-hour and will include a resource review\, live-demo\, and interactive Kahoot! Game.   \n\n\n\nRegister for this event
URL:https://tl.ssc.edu/event/kahoot-101-getting-started-vendor-webinar-2/
CATEGORIES:Vendor Webinar
END:VEVENT
BEGIN:VEVENT
DTSTART;TZID=America/Chicago:20251001T160000
DTEND;TZID=America/Chicago:20251001T170000
DTSTAMP:20260423T050532
CREATED:20250625T161628Z
LAST-MODIFIED:20250625T161629Z
UID:10001015-1759334400-1759338000@tl.ssc.edu
SUMMARY:Artificial Intelligence in Higher Education (Online Webinar) (.25 PGU’s)
DESCRIPTION:Join the Teaching and Learning Center for an insightful one-hour webinar tailored specifically for instructors at South Suburban College interested in integrating artificial intelligence\, particularly ChatGPT\, into their course design and assignment processes. This session will explore how AI can enhance curriculum development and provide a unique perspective on the student experience when using ChatGPT.   \n\n\n\nObjectives:   \n\n\n\n\nUnderstanding ChatGPT: Learn the basics of how ChatGPT works and its potential applications in education.  \n\n\n\nCourse Design Enhancement: Discover strategies for incorporating ChatGPT into course design\, including generating content ideas\, creating assessments\, developing quiz questions and online discussion prompts.   \n\n\n\nStudent Perspective: Experience a live demonstration of how students are using ChatGPT along with best practices for guiding students in using AI responsibly.  \n\n\n\nOther Applications:  If time permits\, we’ll also demonstrate some other applications that may be helpful for course design such as creating images and music using AI software.  \n\n\n\n\nWho Should Attend: This webinar is designed for instructors at all levels who want to innovate their teaching methods and enhance student engagement through the use of AI technology.   \n\n\n\nTakeaways:  Participants will leave with actionable insights on how to effectively incorporate ChatGPT into their course design and an understanding of the student’s experience with AI.  \n\n\n\nRegister for this event
URL:https://tl.ssc.edu/event/artificial-intelligence-in-higher-education-online-webinar-25-pgus/
CATEGORIES:D2L
END:VEVENT
END:VCALENDAR