BEGIN:VCALENDAR
VERSION:2.0
PRODID:-//Teaching, Learning, &amp; Technology Blog - ECPv6.15.18//NONSGML v1.0//EN
CALSCALE:GREGORIAN
METHOD:PUBLISH
X-ORIGINAL-URL:https://tl.ssc.edu
X-WR-CALDESC:Events for Teaching, Learning, &amp; Technology Blog
REFRESH-INTERVAL;VALUE=DURATION:PT1H
X-Robots-Tag:noindex
X-PUBLISHED-TTL:PT1H
BEGIN:VTIMEZONE
TZID:America/Chicago
BEGIN:DAYLIGHT
TZOFFSETFROM:-0600
TZOFFSETTO:-0500
TZNAME:CDT
DTSTART:20240310T080000
END:DAYLIGHT
BEGIN:STANDARD
TZOFFSETFROM:-0500
TZOFFSETTO:-0600
TZNAME:CST
DTSTART:20241103T070000
END:STANDARD
BEGIN:DAYLIGHT
TZOFFSETFROM:-0600
TZOFFSETTO:-0500
TZNAME:CDT
DTSTART:20250309T080000
END:DAYLIGHT
BEGIN:STANDARD
TZOFFSETFROM:-0500
TZOFFSETTO:-0600
TZNAME:CST
DTSTART:20251102T070000
END:STANDARD
BEGIN:DAYLIGHT
TZOFFSETFROM:-0600
TZOFFSETTO:-0500
TZNAME:CDT
DTSTART:20260308T080000
END:DAYLIGHT
BEGIN:STANDARD
TZOFFSETFROM:-0500
TZOFFSETTO:-0600
TZNAME:CST
DTSTART:20261101T070000
END:STANDARD
END:VTIMEZONE
BEGIN:VEVENT
DTSTART;TZID=America/Chicago:20250930T160000
DTEND;TZID=America/Chicago:20250930T170000
DTSTAMP:20260423T050559
CREATED:20250623T204143Z
LAST-MODIFIED:20250623T204159Z
UID:10001009-1759248000-1759251600@tl.ssc.edu
SUMMARY:D2L Intelligent Agents: Automate Communication with Students (Online Webinar) (.25 PGU)
DESCRIPTION:An Intelligent Agent is a communication tool feature built-in to D2L that can assist instructors in monitoring student activity and automatically sending email reminders to students based on those activities.   \n\n\n\nFor example\, instructors can prepare an intelligent agent to automatically email students as follows:  \n\n\n\nCatch them early by notifying them of tutoring services available if they are receiving a low score in their assignments.   \n\n\n\n\nWelcome students when they first access the course. \n\n\n\nRemind students they failed to login and access your course within the last week and how important it is to keep up. \n\n\n\nEncourage students when they miss deadlines. \n\n\n\nRecognize students when they are doing well in the course.  \n\n\n\n\nIn this webinar\, we’ll cover the following:  \n\n\n\n\nCreating an Intelligent Agent based on a variety of different criteria mentioned above. \n\n\n\nTest an Intelligent Agent with a Practice Run. \n\n\n\nIntroduce the concepts of Replacement Strings – internal fields that can be used to personalize the communication\, such as First Name\, Last Course Assess Date\, Course Name\, etc. \n\n\n\n\nRegister for this Event
URL:https://tl.ssc.edu/event/d2l-intelligent-agents-automate-communication-with-students-online-webinar-25-pgu-3/
CATEGORIES:D2L
END:VEVENT
END:VCALENDAR