BEGIN:VCALENDAR
VERSION:2.0
PRODID:-//Teaching, Learning, &amp; Technology Blog - ECPv6.15.18//NONSGML v1.0//EN
CALSCALE:GREGORIAN
METHOD:PUBLISH
X-WR-CALNAME:Teaching, Learning, &amp; Technology Blog
X-ORIGINAL-URL:https://tl.ssc.edu
X-WR-CALDESC:Events for Teaching, Learning, &amp; Technology Blog
REFRESH-INTERVAL;VALUE=DURATION:PT1H
X-Robots-Tag:noindex
X-PUBLISHED-TTL:PT1H
BEGIN:VTIMEZONE
TZID:America/Chicago
BEGIN:DAYLIGHT
TZOFFSETFROM:-0600
TZOFFSETTO:-0500
TZNAME:CDT
DTSTART:20240310T080000
END:DAYLIGHT
BEGIN:STANDARD
TZOFFSETFROM:-0500
TZOFFSETTO:-0600
TZNAME:CST
DTSTART:20241103T070000
END:STANDARD
BEGIN:DAYLIGHT
TZOFFSETFROM:-0600
TZOFFSETTO:-0500
TZNAME:CDT
DTSTART:20250309T080000
END:DAYLIGHT
BEGIN:STANDARD
TZOFFSETFROM:-0500
TZOFFSETTO:-0600
TZNAME:CST
DTSTART:20251102T070000
END:STANDARD
BEGIN:DAYLIGHT
TZOFFSETFROM:-0600
TZOFFSETTO:-0500
TZNAME:CDT
DTSTART:20260308T080000
END:DAYLIGHT
BEGIN:STANDARD
TZOFFSETFROM:-0500
TZOFFSETTO:-0600
TZNAME:CST
DTSTART:20261101T070000
END:STANDARD
END:VTIMEZONE
BEGIN:VEVENT
DTSTART;TZID=America/Chicago:20250923T140000
DTEND;TZID=America/Chicago:20250923T150000
DTSTAMP:20260423T064342
CREATED:20250623T195035Z
LAST-MODIFIED:20250623T195036Z
UID:10001001-1758636000-1758639600@tl.ssc.edu
SUMMARY:Using D2L Gradebook for In-Person\, Flex and Online Courses (Online Webinar) (.25 PGU)
DESCRIPTION:If you are teaching a traditional in-person\, flex and online course\, students appreciate instructors using the D2L online Gradebook as it promotes:  \n\n\n\n\nFaster Midterm\, Final and Attendance grade submission from D2L and export to the official Student Information System (Colleague) grade the submitted assignment and scores automatically sync to the D2L Gradebook.   \n\n\n\nTransparency\, Accountability and Timely Feedback (24/7 access to real-time grade totals. Students know where they stand throughout the term.) \n\n\n\nEncourages Communication Opportunities (students asking about how to improve grades) \n\n\n\nReduction of Errors (automatically calculates total column) \n\n\n\nPromotes Accessibility Accommodations (students can access with screen readers) \n\n\n\n\nJoin the Teaching and Learning Center for this online webinar as we get instructors started using the D2L Gradebook.   \n\n\n\nHere’s what we play to cover:   \n\n\n\n\nDemonstrate how assignments\, quizzes and discussion forums sync to the Gradebook. \n\n\n\nManually creating Gradebook columns and how to simply enter grades. \n\n\n\nBest practices of exporting Attendance\, Midterm and Final Grades to the SIS (Student Information System). \n\n\n\nIf weighing grades\, set up categories and apply to the Gradebook columns.  \n\n\n\n\nRegister for this Event
URL:https://tl.ssc.edu/event/using-d2l-gradebook-for-in-person-flex-and-online-courses-online-webinar-25-pgu-6/
CATEGORIES:D2L
END:VEVENT
END:VCALENDAR