BEGIN:VCALENDAR
VERSION:2.0
PRODID:-//Teaching, Learning, &amp; Technology Blog - ECPv6.15.18//NONSGML v1.0//EN
CALSCALE:GREGORIAN
METHOD:PUBLISH
X-ORIGINAL-URL:https://tl.ssc.edu
X-WR-CALDESC:Events for Teaching, Learning, &amp; Technology Blog
REFRESH-INTERVAL;VALUE=DURATION:PT1H
X-Robots-Tag:noindex
X-PUBLISHED-TTL:PT1H
BEGIN:VTIMEZONE
TZID:America/Chicago
BEGIN:DAYLIGHT
TZOFFSETFROM:-0600
TZOFFSETTO:-0500
TZNAME:CDT
DTSTART:20240310T080000
END:DAYLIGHT
BEGIN:STANDARD
TZOFFSETFROM:-0500
TZOFFSETTO:-0600
TZNAME:CST
DTSTART:20241103T070000
END:STANDARD
BEGIN:DAYLIGHT
TZOFFSETFROM:-0600
TZOFFSETTO:-0500
TZNAME:CDT
DTSTART:20250309T080000
END:DAYLIGHT
BEGIN:STANDARD
TZOFFSETFROM:-0500
TZOFFSETTO:-0600
TZNAME:CST
DTSTART:20251102T070000
END:STANDARD
BEGIN:DAYLIGHT
TZOFFSETFROM:-0600
TZOFFSETTO:-0500
TZNAME:CDT
DTSTART:20260308T080000
END:DAYLIGHT
BEGIN:STANDARD
TZOFFSETFROM:-0500
TZOFFSETTO:-0600
TZNAME:CST
DTSTART:20261101T070000
END:STANDARD
END:VTIMEZONE
BEGIN:VEVENT
DTSTART;TZID=America/Chicago:20250916T100000
DTEND;TZID=America/Chicago:20250916T110000
DTSTAMP:20260423T064433
CREATED:20250630T171705Z
LAST-MODIFIED:20250630T171707Z
UID:10001032-1758016800-1758020400@tl.ssc.edu
SUMMARY:Getting to Know the Services for Students with Disabilities Office (SSDO) (Online Webinar)
DESCRIPTION:Instructors\, what do you do when a student provides you with an accommodation password from the Services for Students with Disabilities office?   \n\n\n\nJoin Davina Davis\, Manager of Services for Students with Disabilities (SSDO)\, in partnership with the Teaching and Learning Center\, as she walks you through the process.   \n\n\n\nThis virtual workshop will cover the following important topics:  \n\n\n\n\nWhat is an accommodation password and what is expected of the instructor. \n\n\n\n\n\nCompliance issue and legal responsibilities (federal and state laws). \n\n\n\n\n\nHow to assist students that may need extra support during classtime (service animals in the classroom or pregnant and lactating students\, just to name a few). \n\n\n\n\n\nWhere to find test proctoring and other services offered by the SSDO. \n\n\n\n\nActive Learning: test your knowledge by completing “What Would You Do” scenarios with other faculty.  \n\n\n\nRegister for this event 
URL:https://tl.ssc.edu/event/getting-to-know-the-services-for-students-with-disabilities-office-ssdo-online-webinar/
CATEGORIES:D2L
END:VEVENT
BEGIN:VEVENT
DTSTART;TZID=America/Chicago:20250916T114500
DTEND;TZID=America/Chicago:20250916T121500
DTSTAMP:20260423T064433
CREATED:20250730T152250Z
LAST-MODIFIED:20250730T152253Z
UID:10001033-1758023100-1758024900@tl.ssc.edu
SUMMARY:Accessbility Conference: A Tangled Web of ARIA (Vendor Webinar)
DESCRIPTION:The Web Accessibility in Mind Conference is presented by WebAIM in partnership with Pope Tech and is free to attend. \n\n\n\nThis virtual conference will provide conference participants with content that will help them mature their practice in digital accessibility. Our goals include: \n\n\n\nBring together a cross section of public and private sector technology professionals from organizations large and small. \n\n\n\nProvide a diverse range of perspectives from a diverse group of speakers. \n\n\n\nShare solutions to accessibility challenges. \n\n\n\nGive advice and guidance that helps our participants to actively contribute to providing more accessible digital spaces. \n\n\n\nRegister for this Event
URL:https://tl.ssc.edu/event/accessbility-conference-a-tangled-web-of-aria-vendor-webinar/
CATEGORIES:Vendor Webinar
END:VEVENT
BEGIN:VEVENT
DTSTART;TZID=America/Chicago:20250916T123000
DTEND;TZID=America/Chicago:20250916T133000
DTSTAMP:20260423T064433
CREATED:20250730T152449Z
LAST-MODIFIED:20250730T152450Z
UID:10001034-1758025800-1758029400@tl.ssc.edu
SUMMARY:Accessibility Conference: Understanding Burnout in Accessibility Work (Vendor Webinar)
DESCRIPTION:The Web Accessibility in Mind Conference is presented by WebAIM in partnership with Pope Tech and is free to attend. \n\n\n\nThis virtual conference will provide conference participants with content that will help them mature their practice in digital accessibility. Our goals include: \n\n\n\nBring together a cross section of public and private sector technology professionals from organizations large and small. \n\n\n\nProvide a diverse range of perspectives from a diverse group of speakers. \n\n\n\nShare solutions to accessibility challenges. \n\n\n\nGive advice and guidance that helps our participants to actively contribute to providing more accessible digital spaces. \n\n\n\nRegister for this Event
URL:https://tl.ssc.edu/event/accessibility-conference-understanding-burnout-in-accessibility-work-vendor-webinar/
CATEGORIES:Vendor Webinar
END:VEVENT
BEGIN:VEVENT
DTSTART;TZID=America/Chicago:20250916T134500
DTEND;TZID=America/Chicago:20250916T143000
DTSTAMP:20260423T064433
CREATED:20250730T152638Z
LAST-MODIFIED:20250730T152639Z
UID:10001035-1758030300-1758033000@tl.ssc.edu
SUMMARY:Accessibility Conference:Creating Accessibility Documents and Slides:  Microsoft\, Google\, and Canva (Vendor Webinar)
DESCRIPTION:The Web Accessibility in Mind Conference is presented by WebAIM in partnership with Pope Tech and is free to attend. \n\n\n\nThis virtual conference will provide conference participants with content that will help them mature their practice in digital accessibility. Our goals include: \n\n\n\nBring together a cross section of public and private sector technology professionals from organizations large and small. \n\n\n\nProvide a diverse range of perspectives from a diverse group of speakers. \n\n\n\nShare solutions to accessibility challenges. \n\n\n\nGive advice and guidance that helps our participants to actively contribute to providing more accessible digital spaces. \n\n\n\nRegister for this event
URL:https://tl.ssc.edu/event/accessibility-conferencecreating-accessibility-documents-and-slides-microsoft-google-and-canva-vendor-webinar/
CATEGORIES:Vendor Webinar
END:VEVENT
BEGIN:VEVENT
DTSTART;TZID=America/Chicago:20250916T150000
DTEND;TZID=America/Chicago:20250916T160000
DTSTAMP:20260423T064433
CREATED:20250730T152849Z
LAST-MODIFIED:20250730T152850Z
UID:10001036-1758034800-1758038400@tl.ssc.edu
SUMMARY:Accessibility Conference: Actually\, Shifting Left: Technical Accessibility for Designers (Vendor Webinar)
DESCRIPTION:The Web Accessibility in Mind Conference is presented by WebAIM in partnership with Pope Tech and is free to attend. \n\n\n\nThis virtual conference will provide conference participants with content that will help them mature their practice in digital accessibility. Our goals include: \n\n\n\nBring together a cross section of public and private sector technology professionals from organizations large and small. \n\n\n\nProvide a diverse range of perspectives from a diverse group of speakers. \n\n\n\nShare solutions to accessibility challenges. \n\n\n\nGive advice and guidance that helps our participants to actively contribute to providing more accessible digital spaces. \n\n\n\nRegister for this event \n\n\n\n\nhttps://conference.webaim.org
URL:https://tl.ssc.edu/event/accessibility-conference-actually-shifting-left-technical-accessibility-for-designers-vendor-webinar/
CATEGORIES:Vendor Webinar
END:VEVENT
END:VCALENDAR