BEGIN:VCALENDAR
VERSION:2.0
PRODID:-//Teaching, Learning, &amp; Technology Blog - ECPv6.15.18//NONSGML v1.0//EN
CALSCALE:GREGORIAN
METHOD:PUBLISH
X-WR-CALNAME:Teaching, Learning, &amp; Technology Blog
X-ORIGINAL-URL:https://tl.ssc.edu
X-WR-CALDESC:Events for Teaching, Learning, &amp; Technology Blog
REFRESH-INTERVAL;VALUE=DURATION:PT1H
X-Robots-Tag:noindex
X-PUBLISHED-TTL:PT1H
BEGIN:VTIMEZONE
TZID:America/Chicago
BEGIN:DAYLIGHT
TZOFFSETFROM:-0600
TZOFFSETTO:-0500
TZNAME:CDT
DTSTART:20240310T080000
END:DAYLIGHT
BEGIN:STANDARD
TZOFFSETFROM:-0500
TZOFFSETTO:-0600
TZNAME:CST
DTSTART:20241103T070000
END:STANDARD
BEGIN:DAYLIGHT
TZOFFSETFROM:-0600
TZOFFSETTO:-0500
TZNAME:CDT
DTSTART:20250309T080000
END:DAYLIGHT
BEGIN:STANDARD
TZOFFSETFROM:-0500
TZOFFSETTO:-0600
TZNAME:CST
DTSTART:20251102T070000
END:STANDARD
BEGIN:DAYLIGHT
TZOFFSETFROM:-0600
TZOFFSETTO:-0500
TZNAME:CDT
DTSTART:20260308T080000
END:DAYLIGHT
BEGIN:STANDARD
TZOFFSETFROM:-0500
TZOFFSETTO:-0600
TZNAME:CST
DTSTART:20261101T070000
END:STANDARD
END:VTIMEZONE
BEGIN:VEVENT
DTSTART;TZID=America/Chicago:20250911T180000
DTEND;TZID=America/Chicago:20250911T193000
DTSTAMP:20260423T064402
CREATED:20250623T180622Z
LAST-MODIFIED:20250623T180623Z
UID:10000997-1757613600-1757619000@tl.ssc.edu
SUMMARY:D2L Basics and Simple Syllabus Refresher (Online Webinar)
DESCRIPTION:Join the Teaching and Learning Center for this online webinar as we get instructors started using D2L.  We’ll demonstrate D2L navigation\, how to add and organize content into modules\, how to create assignments\, basic gradebook functionality\, and ways to communicate with your students.   \n\n\n\nIn this webinar\, we’ll cover the following:  \n\n\n\nIntroducing the D2L Pulse App and easy notifications to students (sort of like text messaging to mobile phones). \n\n\n\nWhere to locate your Syllabus and update – using Simple Syllabus  \n\n\n\nCreating weekly modules and posting a variety of content into those modules (powerpoints\, pdf’s\, videos\, etc.).  \n\n\n\nCreating assignments (discussion forum\, written assignment\, online practice quiz) and passing the score to the D2L gradebook.  \n\n\n\nBasic grading functionality and submitting attendance\, midterm and final grades to the student information system.   \n\n\n\nVarious ways to communicate with your students (announcement\, emails\, students who missed assignments\, etc.).  \n\n\n\nRegister for this Event
URL:https://tl.ssc.edu/event/d2l-basics-and-simple-syllabus-refresher-online-webinar-7/
CATEGORIES:D2L
END:VEVENT
END:VCALENDAR