BEGIN:VCALENDAR
VERSION:2.0
PRODID:-//Teaching, Learning, &amp; Technology Blog - ECPv6.15.18//NONSGML v1.0//EN
CALSCALE:GREGORIAN
METHOD:PUBLISH
X-WR-CALNAME:Teaching, Learning, &amp; Technology Blog
X-ORIGINAL-URL:https://tl.ssc.edu
X-WR-CALDESC:Events for Teaching, Learning, &amp; Technology Blog
REFRESH-INTERVAL;VALUE=DURATION:PT1H
X-Robots-Tag:noindex
X-PUBLISHED-TTL:PT1H
BEGIN:VTIMEZONE
TZID:America/Chicago
BEGIN:DAYLIGHT
TZOFFSETFROM:-0600
TZOFFSETTO:-0500
TZNAME:CDT
DTSTART:20240310T080000
END:DAYLIGHT
BEGIN:STANDARD
TZOFFSETFROM:-0500
TZOFFSETTO:-0600
TZNAME:CST
DTSTART:20241103T070000
END:STANDARD
BEGIN:DAYLIGHT
TZOFFSETFROM:-0600
TZOFFSETTO:-0500
TZNAME:CDT
DTSTART:20250309T080000
END:DAYLIGHT
BEGIN:STANDARD
TZOFFSETFROM:-0500
TZOFFSETTO:-0600
TZNAME:CST
DTSTART:20251102T070000
END:STANDARD
BEGIN:DAYLIGHT
TZOFFSETFROM:-0600
TZOFFSETTO:-0500
TZNAME:CDT
DTSTART:20260308T080000
END:DAYLIGHT
BEGIN:STANDARD
TZOFFSETFROM:-0500
TZOFFSETTO:-0600
TZNAME:CST
DTSTART:20261101T070000
END:STANDARD
END:VTIMEZONE
BEGIN:VEVENT
DTSTART;TZID=America/Chicago:20250716T120000
DTEND;TZID=America/Chicago:20250716T130000
DTSTAMP:20260423T114553
CREATED:20250612T211038Z
LAST-MODIFIED:20250612T211040Z
UID:10000981-1752667200-1752670800@tl.ssc.edu
SUMMARY:Overcoming Academic Freedom Objections to QM (Vendor Webinar)
DESCRIPTION:Presented by Amy Heston\, Professor of Inorganic Chemistry at Walsh University; Stephen Kaufman\, Senior Instructional DesignerStrategic Initiatives Coordinator at University of Akron; and Brenda Boyd\, Vice President of Quality Standards & Evaluation at Quality Matters \n\n\n\nFaculty resistance to using the QM Rubric is often framed in the context of “Academic Freedom” however\, the QM Rubric supports faculty choice and academic freedom. Join us for this interactive session that will give instructional designers techniques and tactics to overcome this common objection to using the QM Rubric. \n\n\n\nRegister for this Event \n\n\n\nSpecial Note:  SSC is a member of Quality Matters\, so this webinar is free.  You may have to create a Quality Matters account to register.  Remember\, to use your SSC email when creating an account.
URL:https://tl.ssc.edu/event/overcoming-academic-freedom-objections-to-qm-vendor-webinar/
CATEGORIES:Vendor Webinar
END:VEVENT
END:VCALENDAR