BEGIN:VCALENDAR
VERSION:2.0
PRODID:-//Teaching, Learning, &amp; Technology Blog - ECPv6.15.18//NONSGML v1.0//EN
CALSCALE:GREGORIAN
METHOD:PUBLISH
X-ORIGINAL-URL:https://tl.ssc.edu
X-WR-CALDESC:Events for Teaching, Learning, &amp; Technology Blog
REFRESH-INTERVAL;VALUE=DURATION:PT1H
X-Robots-Tag:noindex
X-PUBLISHED-TTL:PT1H
BEGIN:VTIMEZONE
TZID:America/Chicago
BEGIN:DAYLIGHT
TZOFFSETFROM:-0600
TZOFFSETTO:-0500
TZNAME:CDT
DTSTART:20240310T080000
END:DAYLIGHT
BEGIN:STANDARD
TZOFFSETFROM:-0500
TZOFFSETTO:-0600
TZNAME:CST
DTSTART:20241103T070000
END:STANDARD
BEGIN:DAYLIGHT
TZOFFSETFROM:-0600
TZOFFSETTO:-0500
TZNAME:CDT
DTSTART:20250309T080000
END:DAYLIGHT
BEGIN:STANDARD
TZOFFSETFROM:-0500
TZOFFSETTO:-0600
TZNAME:CST
DTSTART:20251102T070000
END:STANDARD
BEGIN:DAYLIGHT
TZOFFSETFROM:-0600
TZOFFSETTO:-0500
TZNAME:CDT
DTSTART:20260308T080000
END:DAYLIGHT
BEGIN:STANDARD
TZOFFSETFROM:-0500
TZOFFSETTO:-0600
TZNAME:CST
DTSTART:20261101T070000
END:STANDARD
END:VTIMEZONE
BEGIN:VEVENT
DTSTART;TZID=America/Chicago:20250515T103000
DTEND;TZID=America/Chicago:20250515T113000
DTSTAMP:20260423T150309
CREATED:20250501T185301Z
LAST-MODIFIED:20250501T185302Z
UID:10000960-1747305000-1747308600@tl.ssc.edu
SUMMARY:Bright Ideas: D2L Adoption Webinar Series for Upskilling - Accessibility for Professional Learners (Online Webinar)
DESCRIPTION:Save your seat in our “Bright Ideas” 💡 Webinar Series. Each webinar is 20 minutes followed by 10 minutes of Q&A. Take a deep dive with our Adoption Team into Brightspace tips and tricks for better professional learning experiences!   \n\n\n\n❓ What to Expect   \n\n\n\n⭐ Create an inclusive and accessible training environment so all learners succeed   \n\n\n\n🌎 Best practices for designing content that meets diverse needs   \n\n\n\n📋 Ensure compliance with accessibility standards   \n\n\n\nRegister for this Event \n\n\n\nPlease Note: In order to register\, you may have to create an account with the D2L Community. Remember to use your SSC email when creating the account.
URL:https://tl.ssc.edu/event/bright-ideas-d2l-adoption-webinar-series-for-upskilling-accessibility-for-professional-learners-online-webinar/
CATEGORIES:D2L
END:VEVENT
BEGIN:VEVENT
DTSTART;TZID=America/Chicago:20250515T120000
DTEND;TZID=America/Chicago:20250515T130000
DTSTAMP:20260423T150309
CREATED:20250501T183116Z
LAST-MODIFIED:20250501T183117Z
UID:10000958-1747310400-1747314000@tl.ssc.edu
SUMMARY:QM: AI Strategies for Personalized\, Inclusive Online Course Design (Vendor Webinar)
DESCRIPTION:Join Dr. Grady and Dr. Brooks for an interactive webinar celebrating the release of the latest Quality Matters white paper\, From Automation to Transformation: AI Strategies for Personalized\, Engaging\, and Inclusive Online Course Design. In this session\, participants will explore how AI can be used not only to streamline online learning — but to elevate it. Designed for educators\, instructional designers and academic leaders\, this conversation will highlight key insights from the paper and offer practical strategies for using AI to support learner success\, fairness and innovation.  \n\n\n\nRegister for this Event \n\n\n\nPlease note: SSC is a member of Quality Matters\, so these webinars are free. You may have to create a Quality Matters account with your SSC email.
URL:https://tl.ssc.edu/event/qm-ai-strategies-for-personalized-inclusive-online-course-design-vendor-webinar/
CATEGORIES:Vendor Webinar
END:VEVENT
END:VCALENDAR